BEGIN:VCALENDAR
VERSION:2.0
PRODID:-//DivineYu - ECPv6.15.20//NONSGML v1.0//EN
CALSCALE:GREGORIAN
METHOD:PUBLISH
X-ORIGINAL-URL:https://demo.agapecode.com
X-WR-CALDESC:Events for DivineYu
REFRESH-INTERVAL;VALUE=DURATION:PT1H
X-Robots-Tag:noindex
X-PUBLISHED-TTL:PT1H
BEGIN:VTIMEZONE
TZID:America/New_York
BEGIN:DAYLIGHT
TZOFFSETFROM:-0500
TZOFFSETTO:-0400
TZNAME:EDT
DTSTART:20240310T070000
END:DAYLIGHT
BEGIN:STANDARD
TZOFFSETFROM:-0400
TZOFFSETTO:-0500
TZNAME:EST
DTSTART:20241103T060000
END:STANDARD
BEGIN:DAYLIGHT
TZOFFSETFROM:-0500
TZOFFSETTO:-0400
TZNAME:EDT
DTSTART:20250309T070000
END:DAYLIGHT
BEGIN:STANDARD
TZOFFSETFROM:-0400
TZOFFSETTO:-0500
TZNAME:EST
DTSTART:20251102T060000
END:STANDARD
BEGIN:DAYLIGHT
TZOFFSETFROM:-0500
TZOFFSETTO:-0400
TZNAME:EDT
DTSTART:20260308T070000
END:DAYLIGHT
BEGIN:STANDARD
TZOFFSETFROM:-0400
TZOFFSETTO:-0500
TZNAME:EST
DTSTART:20261101T060000
END:STANDARD
END:VTIMEZONE
BEGIN:VEVENT
DTSTART;TZID=America/New_York:20250608T100000
DTEND;TZID=America/New_York:20250608T170000
DTSTAMP:20260424T073713
CREATED:20250421T213149Z
LAST-MODIFIED:20250421T220916Z
UID:26206-1749376800-1749402000@demo.agapecode.com
SUMMARY:Sixth and Seventh Degree DivineYu Reiki
DESCRIPTION:[vc_row css=”.vc_custom_1714144691270{margin-top: 0px !important;margin-bottom: 0px !important;background-color: #065f7a !important;}”][vc_column][vc_column_text css=”.vc_custom_1585748246249{padding-top: 15px !important;padding-right: 15px !important;padding-bottom: 15px !important;padding-left: 15px !important;}”] \nTICKETS\n[/vc_column_text][/vc_column][/vc_row][vc_row css=”.vc_custom_1714144700354{border-top-width: 2px !important;border-right-width: 2px !important;border-bottom-width: 2px !important;border-left-width: 2px !important;padding-top: 20px !important;padding-right: 10px !important;padding-bottom: 10px !important;padding-left: 10px !important;background-color: #fbfbfb !important;border-left-color: #065f7a !important;border-left-style: solid !important;border-right-color: #065f7a !important;border-right-style: solid !important;border-top-color: #065f7a !important;border-top-style: solid !important;border-bottom-color: #065f7a !important;border-bottom-style: solid !important;}”][vc_column width=”2/3″][vc_column_text]Fees: $ 250 + tax \nSixth and Seventh Degree DivineYu Reiki[/vc_column_text][/vc_column][vc_column width=”1/3″ css=”.vc_custom_1585749079629{margin-bottom: 0px !important;padding-right: 10px !important;padding-left: 10px !important;}”][vc_btn title=”BUY TICKETS” style=”custom” custom_background=”#065f7a” custom_text=”#ffffff” shape=”square” size=”lg” align=”right” css=”.vc_custom_1716823897754{margin-bottom: 0px !important;}” link=”url:https%3A%2F%2Fdemo.agapecode.com%2Fcheckout%2F%3Fadd-to-cart%3D4266|title:Sixth%20and%20Seventh%20Degree%20Reiki%20On-line%20Seminar”][/vc_column][/vc_row][vc_row css=”.vc_custom_1745270831481{margin-top: 20px !important;margin-bottom: 20px !important;}”][vc_column][vc_column_text] \n\n\n\n\n\n\n\nHeal Your Solar Plexus\, Third Eye and Crown Chakras! \nAvailable only to Fifth Degree Reiki Masters certified by the DivineYu Academy. Upon completion\, you will receive a Sixth and Seventh Master Degree Certificate in the Usui system of Reiki from the DivineYu Academy. \nIn the sixth degree Reiki course\, you will learn: \n\nthe principles of the sixth degree of Reiki;\nthe secret symbol TAL DON and its use;\nhealing of Manipura (the third chakra)\, diseases of the stomach\, pancreas\, spleen;\nhealing of Ajna (the third eye chakra)\, dysfunction of the mind and behavior;\ndevelopment of astral sight.\n\n\n\n\n\n\n\n\n\n\n\n\n\n\n\nIn the seventh degree Reiki course\, you will learn:\n\n\n\n\n\n\n\n\n\n\n\n\n\n\n\nthe principles of the seventh degree of Reiki;\nthe secret symbol GIZA FAM and its use;\nhealing of Sahasrara (the crown chakra)\, diseases of the nervous system;\ndevelopment of telepathic abilities;\nthe elimination of bodily blockages;\nchakra cloning treatment.\n\nDuration: 16 training hours.\nFees: $250+tax. \nContact  info@divineyu.com to enroll in this Seminar. \n\n\n\n\n\n\n\n[/vc_column_text][/vc_column][/vc_row][vc_row css=”.vc_custom_1713720424109{margin-bottom: 30px !important;background-color: #eaf6f9 !important;}”][vc_column css=”.vc_custom_1713720308112{padding-top: 20px !important;padding-right: 5% !important;padding-bottom: 20px !important;padding-left: 5% !important;}”][academia_icon_box layout_style=”style5″ icon_type=”fontawesome” icon_fontawesome=”fas fa-globe” icon_color=”#8c1115″ link=”url:%20https%3A%2F%2Fus04web.zoom.us%2Fj%2F9074655172%3Fpwd%3DMbT2GhE8xIhDeaqfSPdoKObZNGZR10.1|title:How%20to%20join%20this%20event%20online”][vc_column_text]How to join this event online? \n\nOn this event page\, click on RSVP to reserve your place.\nMake sure that you are connected to the Internet and open a web browser.\nClick on: https://us04web.zoom.us/j/9074655172?pwd=MbT2GhE8xIhDeaqfSPdoKObZNGZR10.1\nClick on the Open Zoom Meetings button.\nWhen you log in please mute your speaker.\nYou are welcome to enable your camera.\nThere is a chat button for questions.\n\n[/vc_column_text][/vc_column][/vc_row]
URL:https://demo.agapecode.com/event/sixth-and-seventh-degree-divineyu-reiki-9/
LOCATION:Online
CATEGORIES:Reiki
ATTACH;FMTTYPE=image/jpeg:https://demo.agapecode.com/wp-content/uploads/2019/02/sixth_and_seventh_degree_divineyu_reiki_events.jpg
ORGANIZER;CN="DivineYu On-Line":MAILTO:info@divineyu.com
END:VEVENT
END:VCALENDAR