BEGIN:VCALENDAR
VERSION:2.0
PRODID:-//DivineYu - ECPv6.15.20//NONSGML v1.0//EN
CALSCALE:GREGORIAN
METHOD:PUBLISH
X-WR-CALNAME:DivineYu
X-ORIGINAL-URL:https://demo.agapecode.com
X-WR-CALDESC:Events for DivineYu
REFRESH-INTERVAL;VALUE=DURATION:PT1H
X-Robots-Tag:noindex
X-PUBLISHED-TTL:PT1H
BEGIN:VTIMEZONE
TZID:America/New_York
BEGIN:DAYLIGHT
TZOFFSETFROM:-0500
TZOFFSETTO:-0400
TZNAME:EDT
DTSTART:20240310T070000
END:DAYLIGHT
BEGIN:STANDARD
TZOFFSETFROM:-0400
TZOFFSETTO:-0500
TZNAME:EST
DTSTART:20241103T060000
END:STANDARD
BEGIN:DAYLIGHT
TZOFFSETFROM:-0500
TZOFFSETTO:-0400
TZNAME:EDT
DTSTART:20250309T070000
END:DAYLIGHT
BEGIN:STANDARD
TZOFFSETFROM:-0400
TZOFFSETTO:-0500
TZNAME:EST
DTSTART:20251102T060000
END:STANDARD
BEGIN:DAYLIGHT
TZOFFSETFROM:-0500
TZOFFSETTO:-0400
TZNAME:EDT
DTSTART:20260308T070000
END:DAYLIGHT
BEGIN:STANDARD
TZOFFSETFROM:-0400
TZOFFSETTO:-0500
TZNAME:EST
DTSTART:20261101T060000
END:STANDARD
END:VTIMEZONE
BEGIN:VEVENT
DTSTART;TZID=America/New_York:20250609T080000
DTEND;TZID=America/New_York:20250616T170000
DTSTAMP:20260423T150238
CREATED:20250527T123042Z
LAST-MODIFIED:20250608T215901Z
UID:26397-1749456000-1750093200@demo.agapecode.com
SUMMARY:Full Strawberry Moon Blessings
DESCRIPTION:[vc_row css=”.vc_custom_1714145124684{margin-top: 0px !important;margin-bottom: 0px !important;background-color: #065f7a !important;}”][vc_column][vc_column_text css=”.vc_custom_1585748246249{padding-top: 15px !important;padding-right: 15px !important;padding-bottom: 15px !important;padding-left: 15px !important;}”] \nTICKETS\n[/vc_column_text][/vc_column][/vc_row][vc_row css=”.vc_custom_1714145133671{border-top-width: 2px !important;border-right-width: 2px !important;border-bottom-width: 2px !important;border-left-width: 2px !important;padding-top: 20px !important;padding-right: 10px !important;padding-bottom: 10px !important;padding-left: 10px !important;background-color: #fbfbfb !important;border-left-color: #065f7a !important;border-left-style: solid !important;border-right-color: #065f7a !important;border-right-style: solid !important;border-top-color: #065f7a !important;border-top-style: solid !important;border-bottom-color: #065f7a !important;border-bottom-style: solid !important;}”][vc_column width=”2/3″][vc_column_text css=””]Fees: $ 150 + tax \nFull Strawberry Moon Blessings. The registration has ended. Thank you![/vc_column_text][/vc_column][vc_column width=”1/3″ css=”.vc_custom_1585749079629{margin-bottom: 0px !important;padding-right: 10px !important;padding-left: 10px !important;}”][/vc_column][/vc_row][vc_row css=”.vc_custom_1748388282409{margin-top: 30px !important;}”][vc_column][vc_column_text css=””]7 full days or 168 uninterrupted hours of energy! Two crystal grids- the DivineYu pink quartz crystal grid and the Holy Fire World Peace amethyst crystal grid will be sending you energy 24×7 for healing on all levels\, across all time and space\, longevity\, and enlightenment. Every day\, five Buddha Family mantras will be chanted for you\, in addition to a range of other mantras for well-being\, karma clearing\, removal of negativity\, gaining special abilities\, being reborn in the Pure Land\, manifestation of your wishes that are for your highest good. The enlightened beings from many traditions\, the Earth\, and all five elements will receive daily offerings for your success\, well-being\, happiness\, inner peace\, wisdom\, prosperity\, protection\, relationships\, career\, love\, and spiritual development. Every day\, a quote to brighten your day will be sent to you over WhatsApp. A therapist will use Reiki and Ancient Himalayan energy to help you release a specific energy blockage. You will receive a health insurance receipt. Take advantage of this fantastic chance to enhance your summer blooming experience during the Full Moon.[/vc_column_text][/vc_column][/vc_row]
URL:https://demo.agapecode.com/event/full-strawberry-moon-blessings/
LOCATION:Online
CATEGORIES:Ancient Wisdom,Wellness
ATTACH;FMTTYPE=image/jpeg:https://demo.agapecode.com/wp-content/uploads/2025/05/full_strawberry_moon_blessings.jpg
ORGANIZER;CN="DivineYu On-Line":MAILTO:info@divineyu.com
END:VEVENT
END:VCALENDAR