BEGIN:VCALENDAR
VERSION:2.0
PRODID:-//DivineYu - ECPv6.15.20//NONSGML v1.0//EN
CALSCALE:GREGORIAN
METHOD:PUBLISH
X-WR-CALNAME:DivineYu
X-ORIGINAL-URL:https://demo.agapecode.com
X-WR-CALDESC:Events for DivineYu
REFRESH-INTERVAL;VALUE=DURATION:PT1H
X-Robots-Tag:noindex
X-PUBLISHED-TTL:PT1H
BEGIN:VTIMEZONE
TZID:America/New_York
BEGIN:DAYLIGHT
TZOFFSETFROM:-0500
TZOFFSETTO:-0400
TZNAME:EDT
DTSTART:20240310T070000
END:DAYLIGHT
BEGIN:STANDARD
TZOFFSETFROM:-0400
TZOFFSETTO:-0500
TZNAME:EST
DTSTART:20241103T060000
END:STANDARD
BEGIN:DAYLIGHT
TZOFFSETFROM:-0500
TZOFFSETTO:-0400
TZNAME:EDT
DTSTART:20250309T070000
END:DAYLIGHT
BEGIN:STANDARD
TZOFFSETFROM:-0400
TZOFFSETTO:-0500
TZNAME:EST
DTSTART:20251102T060000
END:STANDARD
BEGIN:DAYLIGHT
TZOFFSETFROM:-0500
TZOFFSETTO:-0400
TZNAME:EDT
DTSTART:20260308T070000
END:DAYLIGHT
BEGIN:STANDARD
TZOFFSETFROM:-0400
TZOFFSETTO:-0500
TZNAME:EST
DTSTART:20261101T060000
END:STANDARD
END:VTIMEZONE
BEGIN:VEVENT
DTSTART;TZID=America/New_York:20250618T190000
DTEND;TZID=America/New_York:20250618T200000
DTSTAMP:20260423T130740
CREATED:20250527T234209Z
LAST-MODIFIED:20250527T234302Z
UID:26442-1750273200-1750276800@demo.agapecode.com
SUMMARY:Four Archangels Meditations
DESCRIPTION:[vc_row css=”.vc_custom_1748261009006{margin-top: 0px !important;margin-bottom: 0px !important;background-color: #003355 !important;}”][vc_column][vc_column_text css=”.vc_custom_1585748246249{padding-top: 15px !important;padding-right: 15px !important;padding-bottom: 15px !important;padding-left: 15px !important;}”] \nTICKETS\n[/vc_column_text][/vc_column][/vc_row][vc_row css=”.vc_custom_1748261001039{border-top-width: 2px !important;border-right-width: 2px !important;border-bottom-width: 2px !important;border-left-width: 2px !important;padding-top: 20px !important;padding-right: 10px !important;padding-bottom: 10px !important;padding-left: 10px !important;background-color: #fbfbfb !important;border-left-style: solid !important;border-right-style: solid !important;border-top-style: solid !important;border-bottom-style: solid !important;border-color: #003355 !important;}”][vc_column width=”2/3″][vc_column_text css=””]Fees: $ 60 + tax \nFour Archangels Meditations.[/vc_column_text][/vc_column][vc_column width=”1/3″ css=”.vc_custom_1585749079629{margin-bottom: 0px !important;padding-right: 10px !important;padding-left: 10px !important;}”][vc_btn title=”BUY TICKETS” style=”custom” custom_background=”#003355″ custom_text=”#ffffff” shape=”square” size=”lg” align=”right” css=”.vc_custom_1748388918226{margin-bottom: 0px !important;}” link=”url:https%3A%2F%2Fdemo.agapecode.com%2Fcheckout%2F%3Fadd-to-cart%3D26431|title:Four%20Archangels%20Meditations”][/vc_column][/vc_row][vc_row css=”.vc_custom_1748260929779{margin-top: 20px !important;margin-bottom: 0px !important;background-color: #003355 !important;}”][vc_column][vc_column_text css=”.vc_custom_1585748246249{padding-top: 15px !important;padding-right: 15px !important;padding-bottom: 15px !important;padding-left: 15px !important;}”] \nTICKETS\n[/vc_column_text][/vc_column][/vc_row][vc_row css=”.vc_custom_1748260988332{border-top-width: 2px !important;border-right-width: 2px !important;border-bottom-width: 2px !important;border-left-width: 2px !important;padding-top: 20px !important;padding-right: 10px !important;padding-bottom: 10px !important;padding-left: 10px !important;background-color: #fbfbfb !important;border-left-style: solid !important;border-right-style: solid !important;border-top-style: solid !important;border-bottom-style: solid !important;border-color: #003355 !important;}”][vc_column width=”2/3″][vc_column_text css=””]Fees: $ 25 + tax \nOne Archangel Meditation[/vc_column_text][/vc_column][vc_column width=”1/3″ css=”.vc_custom_1585749079629{margin-bottom: 0px !important;padding-right: 10px !important;padding-left: 10px !important;}”][vc_btn title=”BUY TICKETS” style=”custom” custom_background=”#003355″ custom_text=”#ffffff” shape=”square” size=”lg” align=”right” css=”.vc_custom_1748388949453{margin-bottom: 0px !important;}” link=”url:https%3A%2F%2Fdemo.agapecode.com%2Fcheckout%2F%3Fadd-to-cart%3D26432|title:Four%20Archangels%20Single%20Meditation”][/vc_column][/vc_row][vc_row css=”.vc_custom_1748261033625{margin-top: 20px !important;}”][vc_column][vc_column_text css=””]Dive into transformative meditations with the four archangels. Find balance\, clarity\, and a deeper connection to your spiritual journey. From the comfort of your home meditate in a group every Wednesday at 7 pm EDT. Hosted online\, in a virtual room on the Internet! Open to all. There are no prerequisites. \nJune 4: Archangel Uriel\, Spiritual Light Carrier\, Earth. Root Chakra. Guidance.\nJune 11: Archangel Gabriel\, Spiritual Teacher\, Water. Sacral Chakra. Rebirth.\nJune 18: Archangel Michael\, Spiritual Warrior\, Fire. Third Chakra balancing. Transformation.\nJune 25: Archangel Raphael\, Spiritual Healer\, Air. Heart Chakra balancing. Compassion. \nConnect with Archangel Michael\, Gabriel\, Raphael\, and Uriel. It’s believed that subtle natural bodies of earth\, water\, air\, and fire are inherent to every being. Because of the current lifestyle\, a particular work is needed to deepen our connection to them. The ancient myths talk about the Archangels’ connections to the elements of earth (Uriel\, summer)\, water (Gabriel\, winter)\, fire (Michael\, autumn)\, and air (Raphael\, spring) or Ange de la Terre\, Ange de l’Eau\, Ange du Feu\, Ange de l’Air. \nEarth Element\nConnection with the Spirit of the Earth\nFirst Chakra\nArchangel Uriel\nLight Carrier\nSummer\nGnome Elementals\nTissues Balancing \nYou’re invited to have your crystals to charge them. We’ll journey together with the Spirit of the Earth and Earth elementals (in legends they are called gnomes). The word Gnome comes from the Latin word gnoma which means “Knowledge”. The term Gnome is also derived from Latin genomus which means “Earth-dweller”. The concept of\, and the name Gnome was coined by Paracelsus\, a highly respected physician. He was also knowledgeable in the area of alchemy. We’ll be harmonizing: Grounding\, Stability\, Security\, Safety\, Foundations\, Protection\, Abundance in the Physical Plane\, Wellness of the Physical body. The initiation into the connection with the Spirit of the Earth will be for you to keep\, so that you can receive direct guidance and energy\, wisdom of the plants and animals. \nWater Element\nConnecting to waters\nSecond Chakra\nArchangel Gabriel\nSpiritual Teacher\nMoon\nFeminine Aspects\nWinter\nElementals undines \nAll organisms as well as our foods consist largely of water\, which is essential to life on earth. The health of the organism depends upon the quality of the blood\, and in like manner the health of the physical environment depends upon the quality of the water available. In our meditation\, we’ll explore connection with all forms of water- oceans\, rivers\, creeks\, rain\, the sap in trees and plants\, the unity between the waters of the body and the waters of the planet. It can be said that the circulation of water in nature is related to the circulation of the blood in the body. This meditation can help us to achieve a self-mastery and resistance to pain\, as well as opening of our consciousness to understand and speak the worlds of wisdom. \nFire Element\nConnecting to our inner fire\nThird Chakra\nArchangel Michael\nSpiritual Warrior\nSun\nMasculine Aspects\nAutumn\nElementals salamanders \nFire is sacred in many spiritual traditions\, and has been used in religious rites for thousands of years. The warmth of the fire symbolized the fire of life\, vitality in the material world\, coming from all the forces of the cosmos. Fire\, in scriptures\, communicates the very presence of God. This is especially evident in the burning bush from which God spoke to Moses\, described in the Old Testament and Koran. In the New Testament Paul describes the second coming of Christ as “in blazing fire”. In the Vedic scriptures\, Agni\, or Fire\, is the messenger between the people and their Gods. Agni purifies all that he consumes. In Hinduism\, fire is one of five sacred elements of which all living creatures are comprised and is considered an eternal witness essential to sacred religious ceremonies. In Christianity\, fire is a symbol of the Holy Spirit. In the Zoroastrian religion\, fire is used to represent Ahura Mazda\, or God of the Zoroastrians. Fire is universally associated with the sun and light. In Buddha’s teachings\, light is the symbol of truth that dispels the darkness of ignorance. As a flame can pass from one candle to another\, so too can truth be passed. Fire is an icon for enlightenment. Although fire is considered a very yang element in Chinese symbolism\, it can exist in either a yang or a yin state because in Taoism all things have both a yin and a yang expression to create balance. Fire symbolism is related to the sun and the powers of transformation and purification. In our Fire Element meditation\, we’ll became more receptive to the solar energies and establish a unity between the self and the Sun and distribute its power throughout the body. The Sun is an ever-present source of energy without which there would be no life on earth. We’ll meditate on the effects of solar rays within our body. We’ll accumulated solar forces in our solar plexus\, and send them to all parts of our body. In this way\, certain health conditions maybe placed in balance. Fire produces flame (light) and heat\, two very useful properties in the natural world. We feed the body by taking in the Sun’s energy embodied in plants. We warm ourselves in the rays of the Sun. Emotion related to fire is happiness. \nAir Element\nArchangel Raphael\nSpiritual Healer\nSpring\nElementals sylphs \nWe share the same air. In this meditation\, we’ll strive to became conscious of the dynamic unity between air and life and that breathing is the link between us and the universe. The atmosphere in surrounding nature and the air within the body have a great role in health and vitality. We’ll learn about different ways of breathing. \n“From Atman did space come into being;\nfrom space\, air;\nfrom air\, fire;\nfrom fire\, the waters\,\nfrom the waters\, the earth;\nfrom the earth\, plants;\nfrom plants\, food;\nand from food\, man…”\nTaittirīya Upaniṣad \nEther / Akasha Element\nFifth Element\nAkashic Record Oracle[/vc_column_text][/vc_column][/vc_row][vc_row css=”.vc_custom_1745426858149{margin-top: 20px !important;margin-bottom: 30px !important;background-color: #eaf6f9 !important;}”][vc_column css=”.vc_custom_1713720308112{padding-top: 20px !important;padding-right: 5% !important;padding-bottom: 20px !important;padding-left: 5% !important;}”][academia_icon_box layout_style=”style5″ icon_type=”fontawesome” icon_fontawesome=”fas fa-globe” icon_color=”#8c1115″ link=”url:%20https%3A%2F%2Fus04web.zoom.us%2Fj%2F9074655172%3Fpwd%3DMbT2GhE8xIhDeaqfSPdoKObZNGZR10.1|title:How%20to%20join%20this%20event%20online”][vc_column_text]How to join this event online? \n\nOn this event page\, click on RSVP to reserve your place.\nMake sure that you are connected to the Internet and open a web browser.\nClick on: https://us04web.zoom.us/j/9074655172?pwd=MbT2GhE8xIhDeaqfSPdoKObZNGZR10.1\nClick on the Open Zoom Meetings button.\nWhen you log in please mute your speaker.\nYou are welcome to enable your camera.\nThere is a chat button for questions.\n\n[/vc_column_text][/vc_column][/vc_row]
URL:https://demo.agapecode.com/event/four-archangels-meditations-3/
LOCATION:Online
CATEGORIES:Meditation
ATTACH;FMTTYPE=image/jpeg:https://demo.agapecode.com/wp-content/uploads/2025/05/four_archangels_meditations.jpg
ORGANIZER;CN="DivineYu On-Line":MAILTO:info@divineyu.com
END:VEVENT
END:VCALENDAR