BEGIN:VCALENDAR
VERSION:2.0
PRODID:-//DivineYu - ECPv6.15.17//NONSGML v1.0//EN
CALSCALE:GREGORIAN
METHOD:PUBLISH
X-ORIGINAL-URL:https://demo.agapecode.com
X-WR-CALDESC:Events for DivineYu
REFRESH-INTERVAL;VALUE=DURATION:PT1H
X-Robots-Tag:noindex
X-PUBLISHED-TTL:PT1H
BEGIN:VTIMEZONE
TZID:America/New_York
BEGIN:DAYLIGHT
TZOFFSETFROM:-0500
TZOFFSETTO:-0400
TZNAME:EDT
DTSTART:20240310T070000
END:DAYLIGHT
BEGIN:STANDARD
TZOFFSETFROM:-0400
TZOFFSETTO:-0500
TZNAME:EST
DTSTART:20241103T060000
END:STANDARD
BEGIN:DAYLIGHT
TZOFFSETFROM:-0500
TZOFFSETTO:-0400
TZNAME:EDT
DTSTART:20250309T070000
END:DAYLIGHT
BEGIN:STANDARD
TZOFFSETFROM:-0400
TZOFFSETTO:-0500
TZNAME:EST
DTSTART:20251102T060000
END:STANDARD
BEGIN:DAYLIGHT
TZOFFSETFROM:-0500
TZOFFSETTO:-0400
TZNAME:EDT
DTSTART:20260308T070000
END:DAYLIGHT
BEGIN:STANDARD
TZOFFSETFROM:-0400
TZOFFSETTO:-0500
TZNAME:EST
DTSTART:20261101T060000
END:STANDARD
END:VTIMEZONE
BEGIN:VEVENT
DTSTART;TZID=America/New_York:20250711T150000
DTEND;TZID=America/New_York:20250713T150000
DTSTAMP:20260421T025831
CREATED:20241209T181439Z
LAST-MODIFIED:20250704T180155Z
UID:24668-1752246000-1752418800@demo.agapecode.com
SUMMARY:Deeper Meditation for Inner Peace
DESCRIPTION:[vc_row css=”.vc_custom_1733769098151{margin-top: 0px !important;margin-bottom: 0px !important;background-color: #1C5567 !important;}”][vc_column][vc_column_text css=”.vc_custom_1733769104648{padding-top: 15px !important;padding-right: 15px !important;padding-bottom: 15px !important;padding-left: 15px !important;}”] \nTICKETS\n[/vc_column_text][/vc_column][/vc_row][vc_row css=”.vc_custom_1714145496506{border-top-width: 2px !important;border-right-width: 2px !important;border-bottom-width: 2px !important;border-left-width: 2px !important;padding-top: 20px !important;padding-right: 10px !important;padding-bottom: 10px !important;padding-left: 10px !important;background-color: #fbfbfb !important;border-left-color: #065f7a !important;border-left-style: solid !important;border-right-color: #065f7a !important;border-right-style: solid !important;border-top-color: #065f7a !important;border-top-style: solid !important;border-bottom-color: #065f7a !important;border-bottom-style: solid !important;}”][vc_column width=”2/3″][vc_column_text css=””]Fees: $ 490 + tax \nDeeper Meditation for Inner Peace.[/vc_column_text][/vc_column][vc_column width=”1/3″ css=”.vc_custom_1585749079629{margin-bottom: 0px !important;padding-right: 10px !important;padding-left: 10px !important;}”][vc_btn title=”BUY NOW” style=”custom” custom_background=”#065f7a” custom_text=”#ffffff” shape=”square” size=”lg” align=”right” css=”.vc_custom_1733769013031{margin-bottom: 0px !important;}” link=”url:https%3A%2F%2Fdemo.agapecode.com%2Fcheckout%2F%3Fadd-to-cart%3D15616|title:Deeper%20Meditation%20for%20Inner%20Peace”][/vc_column][/vc_row][vc_row css=”.vc_custom_1649282759058{margin-bottom: 20px !important;}”][vc_column][vc_column_text css=”.vc_custom_1751652042538{margin-top: 15px !important;}”]Relax\, rejuvenate and energize. Immerse yourself in an environment where you can focus on your health and well-being. Plan your stay today in this heaven\, a vortex of energy for spiritual healing and awakening\, that will allow you to recharge batteries and regain energy and enthusiasm. \nArrival: Friday\, July 11th at 3 pm and Departure: Sunday\, July 13th at 3 pm.\nAccommodations: rooms with two beds\, three beds and four beds.\nAddress: 196 rang de la Montagne\, St. Etienne de Bolton\, Quebec\, Canada J0E 2E0 (about 1 hour and 30 minute-drive from Montreal). \nDirections if you are driving from Montreal: cross the Champlain Bridge. Take the #10 AutoRoute (Eastern Townships AutoRoute) for 55 minutes\, to Exit 100. Turn right and go 3 miles to the village of St. Etienne de Bolton. At the church veer to your right and take “rang de la Montagne” up the hill for ¾ of a mile. At the crest of the hill\, just after the pavement becomes a gravel road\, turn right into the driveway\, number 196 rang de la Montagne. You will see a large white and blue house there. The entrance is marked by an arch with the letters “Kriya Yoga Ashram de Babaji”.[/vc_column_text][/vc_column][/vc_row][vc_row][vc_column][academia_heading title=”What is included?” title_size=”fs-18″ show_icon=”” text_align=”text-left”][/vc_column][/vc_row][vc_row css=”.vc_custom_1649282775298{margin-top: 20px !important;margin-bottom: 20px !important;}”][vc_column][vc_column_text css=””]Included: \n\nA private retreat center with 40 acres\, a lake and a panoramic view.\nReserved only for our group.\nAccommodations.\nPrivate whole food chef – 6 healthy and delicious meals.\nTeachings\, ceremonies\, holistic therapies with GM Brana.\nYoga classes with GM Michael Polisena.\nStrong spiritual energy connected with the divine consciousness of Babaji and 18 South Indian Siddhas.\n$100 health insurance receipt.\nCertificate for 16 hours of Wellness Therapies training.\n\n[/vc_column_text][/vc_column][/vc_row][vc_row][vc_column][academia_heading title=”Activities” title_size=”fs-18″ show_icon=”” text_align=”text-left”][/vc_column][/vc_row][vc_row css=”.vc_custom_1649282790285{margin-top: 20px !important;margin-bottom: 20px !important;}”][vc_column][vc_column_text] \n\nExperience a sunset meditation on a beautiful lake with a view of Mount Orford.\nHave a great time and giggles with your spiritual community.\nReceive personal loving care.\nParticipate in a water ceremony and in a fire ceremony.\nTake time for yourself to rebalance and harmonize.\n\n[/vc_column_text][/vc_column][/vc_row][vc_row][vc_column][academia_heading title=”What to bring” title_size=”fs-18″ show_icon=”” text_align=”text-left”][/vc_column][/vc_row][vc_row css=”.vc_custom_1649282807461{margin-top: 20px !important;margin-bottom: 20px !important;}”][vc_column][vc_column_text]Feel free to bring your swimsuit\, after-swim towel\, comfortable clothes\, sunhat\, and toiletries.\nMoments that we experience at the Holy Days spiritual retreats fill our souls with joy and strength.[/vc_column_text][/vc_column][/vc_row][vc_row css=”.vc_custom_1622075436856{margin-top: 20px !important;}”][vc_column][vc_column_text] \nPHOTO GALLERY \n[/vc_column_text][vc_row_inner css=”.vc_custom_1622072736852{margin-top: 30px !important;}”][vc_column_inner][vc_column_text]\n\n		\n			\n			\n										\n							\n\n							\n													\n												\n							\n\n							\n													\n												\n							\n\n							\n													\n												\n							\n\n							\n													\n												\n							\n\n							\n													\n												\n							\n\n							\n													\n												\n							\n\n							\n													\n												\n							\n\n							\n													\n												\n							\n\n							\n													\n												\n							\n\n							\n													\n												\n							\n\n							\n													\n									\n			\n			\n						\n			\n										\n											\n											\n											\n											\n											\n											\n											\n											\n											\n											\n								\n						\n		\n		\n[/vc_column_text][/vc_column_inner][/vc_row_inner][/vc_column][/vc_row][vc_row css=”.vc_custom_1622075497701{margin-top: 30px !important;}”][vc_column][vc_column_text css=””]DivineYu Academy highly recommends attending two spiritual retreats in nature each year for self-healing\, wellness and your spiritual evolution. Disconnect from busy city life\, to connect with nature and reach a state of deep relaxation. \nMichael Polisena will teach the Hatha Yoga classes based on Sivananda from 7 am to 8 am and from 5 pm to 6 pm\, as part of the retreat program. In addition to the retreat program\, the attendees could also reserve a Swedish\, facia\, or a sport massage with Michael\, and he will issue the health insurance receipts. Michael Polisena is a fascia therapist and energy practitioner dedicated to helping others reconnect with their body’s innate intelligence. Drawing from his background in yoga\, Reiki\, and fascia stretch therapy\, he blends physical and energetic modalities to release deep tension\, restore natural movement\, and support emotional wellness. Michael believes the body holds deep wisdom\, and that healing begins when we listen. His work is rooted in the philosophy that tension is unspoken story\, and through compassionate presence\, movement\, and breath\, we can unlock the body’s truth and return to love. \n[/vc_column_text][/vc_column][/vc_row][vc_row][vc_column][vc_btn title=”READ MORE” shape=”square” color=”info” css=”.vc_custom_1592405568415{margin-top: 20px !important;}” link=”url:https%3A%2F%2Fdemo.agapecode.com%2Fwellness-holy-days-in-quebec%2F|title:Wellness%20Holy%20Days%20in%20Quebec||”][/vc_column][/vc_row][vc_row][vc_column][vc_column_text css=”.vc_custom_1733768166606{margin-top: 20px !important;}”] \nWellness Holy Days In Eastern Townships 2021 Facebook Photo Gallery\n \n[/vc_column_text][/vc_column][/vc_row]
URL:https://demo.agapecode.com/event/deeper-meditation-for-inner-peace/
LOCATION:Eastern Townships\, 196 rang de la Montagne\, St. Etienne de Bolton\, Quebec\, J0E 2E0\, Canada
CATEGORIES:Wellness
ATTACH;FMTTYPE=image/jpeg:https://demo.agapecode.com/wp-content/uploads/2022/04/Wellness-Holy-Days-in-Eastern-Townships-in-September_2.jpg
ORGANIZER;CN="DivineYu Academy":MAILTO:info@divineyu.com
END:VEVENT
END:VCALENDAR