BEGIN:VCALENDAR
VERSION:2.0
PRODID:-//DivineYu - ECPv6.15.20//NONSGML v1.0//EN
CALSCALE:GREGORIAN
METHOD:PUBLISH
X-WR-CALNAME:DivineYu
X-ORIGINAL-URL:https://demo.agapecode.com
X-WR-CALDESC:Events for DivineYu
REFRESH-INTERVAL;VALUE=DURATION:PT1H
X-Robots-Tag:noindex
X-PUBLISHED-TTL:PT1H
BEGIN:VTIMEZONE
TZID:America/New_York
BEGIN:DAYLIGHT
TZOFFSETFROM:-0500
TZOFFSETTO:-0400
TZNAME:EDT
DTSTART:20240310T070000
END:DAYLIGHT
BEGIN:STANDARD
TZOFFSETFROM:-0400
TZOFFSETTO:-0500
TZNAME:EST
DTSTART:20241103T060000
END:STANDARD
BEGIN:DAYLIGHT
TZOFFSETFROM:-0500
TZOFFSETTO:-0400
TZNAME:EDT
DTSTART:20250309T070000
END:DAYLIGHT
BEGIN:STANDARD
TZOFFSETFROM:-0400
TZOFFSETTO:-0500
TZNAME:EST
DTSTART:20251102T060000
END:STANDARD
BEGIN:DAYLIGHT
TZOFFSETFROM:-0500
TZOFFSETTO:-0400
TZNAME:EDT
DTSTART:20260308T070000
END:DAYLIGHT
BEGIN:STANDARD
TZOFFSETFROM:-0400
TZOFFSETTO:-0500
TZNAME:EST
DTSTART:20261101T060000
END:STANDARD
END:VTIMEZONE
BEGIN:VEVENT
DTSTART;TZID=America/New_York:20250823T103000
DTEND;TZID=America/New_York:20250824T170000
DTSTAMP:20260423T150252
CREATED:20250421T215453Z
LAST-MODIFIED:20250506T145448Z
UID:26221-1755945000-1756054800@demo.agapecode.com
SUMMARY:DivineYu Reiki Grandmaster and Teacher
DESCRIPTION:[vc_row css=”.vc_custom_1714145432459{margin-top: 0px !important;margin-bottom: 0px !important;background-color: #8c1115 !important;}”][vc_column][vc_column_text css=”.vc_custom_1585748246249{padding-top: 15px !important;padding-right: 15px !important;padding-bottom: 15px !important;padding-left: 15px !important;}”] \nTICKETS\n[/vc_column_text][/vc_column][/vc_row][vc_row css=”.vc_custom_1714145441961{border-top-width: 2px !important;border-right-width: 2px !important;border-bottom-width: 2px !important;border-left-width: 2px !important;padding-top: 20px !important;padding-right: 10px !important;padding-bottom: 10px !important;padding-left: 10px !important;background-color: #fbfbfb !important;border-left-color: #8c1115 !important;border-left-style: solid !important;border-right-color: #8c1115 !important;border-right-style: solid !important;border-top-color: #8c1115 !important;border-top-style: solid !important;border-bottom-color: #8c1115 !important;border-bottom-style: solid !important;}”][vc_column width=”2/3″][vc_column_text]Fees: $ 350 + tax \nDivineYu Reiki Grandmaster and Teacher[/vc_column_text][/vc_column][vc_column width=”1/3″ css=”.vc_custom_1585749079629{margin-bottom: 0px !important;padding-right: 10px !important;padding-left: 10px !important;}”][vc_btn title=”BUY TICKETS” style=”custom” custom_background=”#8c1115″ custom_text=”#ffffff” shape=”square” size=”lg” align=”right” css=”.vc_custom_1745272556594{margin-bottom: 0px !important;}” link=”url:https%3A%2F%2Fdemo.agapecode.com%2Fcheckout%2F%3Fadd-to-cart%3D4272|title:DivineYu%20Reiki%20Grandmaster%20and%20Teacher”][/vc_column][/vc_row][vc_row css=”.vc_custom_1745272411109{margin-top: 20px !important;margin-bottom: 30px !important;}”][vc_column][vc_column_text]Become a Reiki Grandmaster! \nAvailable only to the Eight Degree Masters of Reiki certified by the DivineYu Reiki Academy. This 2-day seminar is developed by GM Brana. Upon completion\, you will receive a Grandmaster Certificate in the DivineYu system of Reiki. This system of Reiki is not based on a particular religion\, but the ancient knowledge closely connected with the scientific models of universe creation. DivineYu Reiki Grandmaster has many virtues\, especially compassion. \nDuration: 2 days[/vc_column_text][vc_column_text css=”.vc_custom_1726487263560{margin-top: 30px !important;}”] \n\nHow to Master Yourself;\nUsing Platonic Solids for Balancing and harmonization;\nEnergy Practices for Harmony;\nReiki 9 Energy Surgery;\nMethods for Creating Virtues;\nPouring Divine Blessings;\nReiki Grandmaster Guidelines;\nReiki 9 initiations: Heart and Third Eye\, Love and Wisdom;\nSpiritual roles: spiritual light carrier\, spiritual warrior\, spiritual teacher\, spiritual healer\, spiritual creator.\nHow to do Reiki 1 to 3 initiations.\n\n[/vc_column_text][/vc_column][/vc_row][vc_row css=”.vc_custom_1713720424109{margin-bottom: 30px !important;background-color: #eaf6f9 !important;}”][vc_column css=”.vc_custom_1713720308112{padding-top: 20px !important;padding-right: 5% !important;padding-bottom: 20px !important;padding-left: 5% !important;}”][academia_icon_box layout_style=”style5″ icon_type=”fontawesome” icon_fontawesome=”fas fa-globe” icon_color=”#8c1115″ link=”url:%20https%3A%2F%2Fus04web.zoom.us%2Fj%2F9074655172%3Fpwd%3DMbT2GhE8xIhDeaqfSPdoKObZNGZR10.1|title:How%20to%20join%20this%20event%20online”][vc_column_text]How to join this event online? \n\nOn this event page\, click on RSVP to reserve your place.\nMake sure that you are connected to the Internet and open a web browser.\nClick on: https://us04web.zoom.us/j/9074655172?pwd=MbT2GhE8xIhDeaqfSPdoKObZNGZR10.1\nClick on the Open Zoom Meetings button.\nWhen you log in please mute your speaker.\nYou are welcome to enable your camera.\nThere is a chat button for questions.\n\n[/vc_column_text][/vc_column][/vc_row]
URL:https://demo.agapecode.com/event/divineyu-reiki-grandmaster-and-teacher-6/
LOCATION:Online
CATEGORIES:Reiki
ATTACH;FMTTYPE=image/jpeg:https://demo.agapecode.com/wp-content/uploads/2019/03/reiki_grandmaster_and_teacher_events.jpg
ORGANIZER;CN="DivineYu On-Line":MAILTO:info@divineyu.com
END:VEVENT
END:VCALENDAR