BEGIN:VCALENDAR
VERSION:2.0
PRODID:-//DivineYu - ECPv6.15.17//NONSGML v1.0//EN
CALSCALE:GREGORIAN
METHOD:PUBLISH
X-WR-CALNAME:DivineYu
X-ORIGINAL-URL:https://demo.agapecode.com
X-WR-CALDESC:Events for DivineYu
REFRESH-INTERVAL;VALUE=DURATION:PT1H
X-Robots-Tag:noindex
X-PUBLISHED-TTL:PT1H
BEGIN:VTIMEZONE
TZID:America/New_York
BEGIN:DAYLIGHT
TZOFFSETFROM:-0500
TZOFFSETTO:-0400
TZNAME:EDT
DTSTART:20240310T070000
END:DAYLIGHT
BEGIN:STANDARD
TZOFFSETFROM:-0400
TZOFFSETTO:-0500
TZNAME:EST
DTSTART:20241103T060000
END:STANDARD
BEGIN:DAYLIGHT
TZOFFSETFROM:-0500
TZOFFSETTO:-0400
TZNAME:EDT
DTSTART:20250309T070000
END:DAYLIGHT
BEGIN:STANDARD
TZOFFSETFROM:-0400
TZOFFSETTO:-0500
TZNAME:EST
DTSTART:20251102T060000
END:STANDARD
BEGIN:DAYLIGHT
TZOFFSETFROM:-0500
TZOFFSETTO:-0400
TZNAME:EDT
DTSTART:20260308T070000
END:DAYLIGHT
BEGIN:STANDARD
TZOFFSETFROM:-0400
TZOFFSETTO:-0500
TZNAME:EST
DTSTART:20261101T060000
END:STANDARD
END:VTIMEZONE
BEGIN:VEVENT
DTSTART;TZID=America/New_York:20251026T140000
DTEND;TZID=America/New_York:20251026T150000
DTSTAMP:20260420T174856
CREATED:20251001T185744Z
LAST-MODIFIED:20251026T133949Z
UID:26950-1761487200-1761490800@demo.agapecode.com
SUMMARY:Free Reiki Energy Transfer
DESCRIPTION:[vc_row][vc_column][vc_column_text css=””]In Person in Ville Saint Laurent and On-Line. Receive Reiki energy FREE of charge. \nFeel uplifted\, energized and loved in a safe space with a spiritual community.\nPlease\, send us the names of your friends or family who would like to receive Reiki.\nWe’ll share about the 2025 Spiritual Adventures in Greece. \nZoom link: https://us04web.zoom.us/j/9074655172?pwd=MbT2GhE8xIhDeaqfSPdoKObZNGZR10.1\n\nReiki Research \nNovember 12\, 2019: A large study by Natalie L. Dyer\, PhD\, Ann L. Baldwin\, PhD\, and William L. Rand was completed with 99 Reiki Master giving sessions across the United States. A total of 1411 Reiki sessions were conducted and included in the analysis. Conclusion: Reiki acutely improved physical and psychological symptoms associated with many health conditions\, including affect\, pain\, depression\, anxiety\, tiredness\, drowsiness\, nausea\, shortness of breath\, appetite\, and overall well-being. Reiki can provide immediate relief for many health conditions and is used for this purpose inside and outside of the hospital setting. This multi-site real-world effectiveness trial was feasible to conduct and provided important preliminary data on the effectiveness of a single session of Reiki to improve physical and psychological symptoms. From 1989 to 2018\, a total of 74 peer-reviewed research articles have been published on Reiki. Over 800 hospitals (15%) in the United States currently offer Reiki to patients. \nClick here to read more about Reiki Research\nBy receiving Reiki energy\, you agree to DivineYu Terms of service: “Reiki is not intended to mitigate\, prevent\, treat\, cure or diagnose medical conditions. I understand that Reiki is a stress reduction and relaxation technique. I acknowledge that sessions administered are only for the purpose of helping me relax and to relieve stress. Reiki Practitioners do not diagnose conditions\, nor do they prescribe substances or perform medical treatment\, nor interfere with the treatment of a licensed medical professional. It is recommended that I see a licensed physician\, or licensed health care professional for any physical or psychological ailment or condition I may have. I also understand the body has the ability to balance itself\, and to do so complete relaxation is often beneficial. I understand and believe that self-improvement requires commitment on my part\, and that I must be willing to change in a positive way if I am to receive the full benefit of Reiki. I acknowledge my commitment to my self-improvement process.” \nTo safeguard our immune system\, we like to follow the Health Canada Food Guide. Eat plenty of vegetables and fruits\, whole grain foods and legumes. Choose protein foods that come from plants more often. Choose foods with healthy fats instead of saturated fat. Limit highly processed foods. Prepare meals and snacks using ingredients that have little to no added sodium\, sugars or saturated fat. Make water your drink of choice. Replace sugary drinks with water.[/vc_column_text][/vc_column][/vc_row]
URL:https://demo.agapecode.com/event/free-reiki-energy-transfer-23/
LOCATION:DivineYu\, Saint-Laurent\, Quebec\, H4R2R9\, Canada
CATEGORIES:Reiki
ATTACH;FMTTYPE=image/jpeg:https://demo.agapecode.com/wp-content/uploads/2025/10/WhatsApp-Image-2025-09-17-at-15.54.34_5610dd29.jpg
ORGANIZER;CN="DivineYu On-Line":MAILTO:info@divineyu.com
END:VEVENT
END:VCALENDAR