BEGIN:VCALENDAR
VERSION:2.0
PRODID:-//DivineYu - ECPv6.15.17//NONSGML v1.0//EN
CALSCALE:GREGORIAN
METHOD:PUBLISH
X-ORIGINAL-URL:https://demo.agapecode.com
X-WR-CALDESC:Events for DivineYu
REFRESH-INTERVAL;VALUE=DURATION:PT1H
X-Robots-Tag:noindex
X-PUBLISHED-TTL:PT1H
BEGIN:VTIMEZONE
TZID:America/New_York
BEGIN:DAYLIGHT
TZOFFSETFROM:-0500
TZOFFSETTO:-0400
TZNAME:EDT
DTSTART:20240310T070000
END:DAYLIGHT
BEGIN:STANDARD
TZOFFSETFROM:-0400
TZOFFSETTO:-0500
TZNAME:EST
DTSTART:20241103T060000
END:STANDARD
BEGIN:DAYLIGHT
TZOFFSETFROM:-0500
TZOFFSETTO:-0400
TZNAME:EDT
DTSTART:20250309T070000
END:DAYLIGHT
BEGIN:STANDARD
TZOFFSETFROM:-0400
TZOFFSETTO:-0500
TZNAME:EST
DTSTART:20251102T060000
END:STANDARD
BEGIN:DAYLIGHT
TZOFFSETFROM:-0500
TZOFFSETTO:-0400
TZNAME:EDT
DTSTART:20260308T070000
END:DAYLIGHT
BEGIN:STANDARD
TZOFFSETFROM:-0400
TZOFFSETTO:-0500
TZNAME:EST
DTSTART:20261101T060000
END:STANDARD
END:VTIMEZONE
BEGIN:VEVENT
DTSTART;TZID=America/New_York:20251101T100000
DTEND;TZID=America/New_York:20251101T170000
DTSTAMP:20260421T032912
CREATED:20250717T185841Z
LAST-MODIFIED:20251030T150457Z
UID:26738-1761991200-1762016400@demo.agapecode.com
SUMMARY:First Degree DivineYu Usui Reiki
DESCRIPTION:[vc_row css=”.vc_custom_1714145091366{margin-top: 0px !important;margin-bottom: 0px !important;background-color: #065f7a !important;}”][vc_column][vc_column_text css=”.vc_custom_1585748246249{padding-top: 15px !important;padding-right: 15px !important;padding-bottom: 15px !important;padding-left: 15px !important;}”] \nTICKETS\n[/vc_column_text][/vc_column][/vc_row][vc_row css=”.vc_custom_1714145100718{border-top-width: 2px !important;border-right-width: 2px !important;border-bottom-width: 2px !important;border-left-width: 2px !important;padding-top: 20px !important;padding-right: 10px !important;padding-bottom: 10px !important;padding-left: 10px !important;background-color: #fbfbfb !important;border-left-color: #065f7a !important;border-left-style: solid !important;border-right-color: #065f7a !important;border-right-style: solid !important;border-top-color: #065f7a !important;border-top-style: solid !important;border-bottom-color: #065f7a !important;border-bottom-style: solid !important;}”][vc_column width=”2/3″][vc_column_text]Fees: $ 150 + tax \nFirst Degree DivineYu Reiki[/vc_column_text][/vc_column][vc_column width=”1/3″ css=”.vc_custom_1585749079629{margin-bottom: 0px !important;padding-right: 10px !important;padding-left: 10px !important;}”][vc_btn title=”BUY TICKETS” style=”custom” custom_background=”#065f7a” custom_text=”#ffffff” shape=”square” size=”lg” align=”right” css=”.vc_custom_1719233634457{margin-bottom: 0px !important;}” link=”url:https%3A%2F%2Fdemo.agapecode.com%2Fcheckout%2F%3Fadd-to-cart%3D4234|title:First%20Degree%20On-line%20Reiki%20Seminar”][/vc_column][/vc_row][vc_row css=”.vc_custom_1738168903369{margin-top: 20px !important;}”][vc_column][vc_column_text] \n\nThe class will be given in person in Ville Saint Laurent and online. \n\n\n\n\nLearn how to self-heal\nBalance your body\, emotions and mind\nAwaken two energy channels within you\nConnect with a divine particle in you\nAccess an amazing free energy field\nAttune into an unconditional love vibration\nLearn about clinical trial results on Reiki\nTap into an amazing relaxation method\nDiscover the truth about naturo-therapies\nAccelerate healing of your loved ones\nFind your spiritual home\nLearn why celebrities use Reiki for wellness and beauty\nReceive a certificate recognized by the Canadian Reiki Association and the Canadian Naturo-Therapy Association\nLearn the truth about the energy therapy\n\n\n\n[/vc_column_text][vc_row_inner css=”.vc_custom_1551325191494{margin-top: 20px !important;}”][vc_column_inner][vc_column_text css=””]Upon completion\, you will receive a First Degree Certificate in the DivineYu Usui system of Reiki from the DivineYu Reiki Academy. The First Degree of the Usui Reiki has no prerequisites. Even children can easily learn this technique\, and apply it successfully. \nOnce attuned by a Reiki Master\, Reiki will never leave you. Following your first degree attunement\, you will be able to treat yourself\, your family and friends\, animals\, plants\, food and water. Reiki energy flows to the part of the body where it is needed the most. It builds confidence\, brings peace and positive thinking\, and can help to self-heal physical\, mental and emotional conditions. Reiki is used in a combination with other therapies in many health and wellness institutions such as hospitals\, rehabilitation and mental care clinics\, substance withdrawal clinics and senior care facilities. \nScientific results measured after Reiki sessions: reduced pain\, reduced fatigue\, reduced inflammation\, normalized blood pressure\, normalized body temperature\, normalized heart beat\, normalized respiration rate\, balanced parasympathetic nervous system\, improved energy\, improved relaxation\, reduced anxiety and worry\, reduced depression\, improved mood\, improved sleep\, reduced loneliness\, improved attitude\, improved memory\, eased surgery pressure\, improved behaviour\, improved self-confidence\, improved sense of calm\, reduced burn-out of nurses and doctors\, reduced side effects of cancer therapies\, improved quality of life\, improved well-being and more. \nReiki sessions demonstrated no negative\, toxic side effects. This is in line with the natural therapy principles: “First Do No Harm” (primum non nocere)\, based on the Hippocratic Oath. READ MORE \n\n\n\n\n\n\n\nWhy choose us? \n\nStudy at the world’s leading Reiki Academy;\nLearn about science\, spirituality and self-healing techniques in Reiki;\nGet a certificate recognized by the Canadian Reiki Association and the Naturo-therapy Association;\nBecame part of a growing and supporting community;\nConnect directly with the Source\, with no intermediaries;\nGet free instructor-led practice sessions;\nLearn from a Reiki teacher\, who has a MSc degree in biomedical engineering;\nLearn from a Reiki teacher\, who has recognized spiritual capabilities;\nGet a life long spiritual teacher and mentor to help you overcome challenges;\nTake steps towards your self-realization in a safe and nurturing environment;\nLearn advanced cell level therapy procedures\, not available elsewhere;\nGet access to a large number of holistic events at discounted prices;\nBenefit from a space designed as a sacred energy vortex;\nBecome involved in scientific studies on energy therapies;\nGet support in becoming the best Reiki teacher you can be;\nGet access to new methods\, inspired healthy lifestyles and make informed choices;\nLearn about the latest scientific discoveries;\nAccess to a wide range of holistic workshops;\nRepeat the First Degree Reiki seminar as many times as you like.\n\n\n\n\n\n\n\n\n\n\n\n\n\n\n\n[/vc_column_text][vc_column_text css=”.vc_custom_1679949345685{margin-top: 20px !important;margin-bottom: 20px !important;}”]Duration: 1 day.\nFees: $150+tax for new students of Reiki\, and $100 for Reiki initiates from other Reiki schools.\nContact info@divineyu.com to register.\nPlease\, e-transfer to transfer@divineyu.com $172.45[/vc_column_text][/vc_column_inner][/vc_row_inner][/vc_column][/vc_row][vc_row css=”.vc_custom_1551325202874{margin-top: 20px !important;margin-bottom: 40px !important;}”][vc_column width=”1/4″][vc_single_image image=”3014″ img_size=”150×150″][vc_column_text] \nGM Brana \n[/vc_column_text][/vc_column][vc_column width=”3/4″ css=”.vc_custom_1551325593348{margin-top: 40px !important;}”][vc_btn title=”Learn more about the Teacher” color=”default” link=”url:https%3A%2F%2Fdemo.agapecode.com%2Fgm-brana%2F|title:GM%20Brana||”][/vc_column][/vc_row][vc_row css=”.vc_custom_1713720424109{margin-bottom: 30px !important;background-color: #eaf6f9 !important;}”][vc_column css=”.vc_custom_1713720308112{padding-top: 20px !important;padding-right: 5% !important;padding-bottom: 20px !important;padding-left: 5% !important;}”][academia_icon_box layout_style=”style5″ icon_type=”fontawesome” icon_fontawesome=”fas fa-globe” icon_color=”#8c1115″ link=”url:%20https%3A%2F%2Fus04web.zoom.us%2Fj%2F9074655172%3Fpwd%3DMbT2GhE8xIhDeaqfSPdoKObZNGZR10.1|title:How%20to%20join%20this%20event%20online”][vc_column_text]How to join this event online? \n\nOn this event page\, click on RSVP to reserve your place.\nMake sure that you are connected to the Internet and open a web browser.\nClick on: https://us04web.zoom.us/j/9074655172?pwd=MbT2GhE8xIhDeaqfSPdoKObZNGZR10.1\nClick on the Open Zoom Meetings button.\nWhen you log in please mute your speaker.\nYou are welcome to enable your camera.\nThere is a chat button for questions.\n\n[/vc_column_text][/vc_column][/vc_row]
URL:https://demo.agapecode.com/event/first-degree-divineyu-usui-reiki-28/
LOCATION:Online
CATEGORIES:Reiki
ATTACH;FMTTYPE=image/jpeg:https://demo.agapecode.com/wp-content/uploads/2021/05/Reiki-Training-Online.jpg
ORGANIZER;CN="DivineYu On-Line":MAILTO:info@divineyu.com
END:VEVENT
END:VCALENDAR