BEGIN:VCALENDAR
VERSION:2.0
PRODID:-//DivineYu - ECPv6.15.17//NONSGML v1.0//EN
CALSCALE:GREGORIAN
METHOD:PUBLISH
X-WR-CALNAME:DivineYu
X-ORIGINAL-URL:https://demo.agapecode.com
X-WR-CALDESC:Events for DivineYu
REFRESH-INTERVAL;VALUE=DURATION:PT1H
X-Robots-Tag:noindex
X-PUBLISHED-TTL:PT1H
BEGIN:VTIMEZONE
TZID:America/New_York
BEGIN:DAYLIGHT
TZOFFSETFROM:-0500
TZOFFSETTO:-0400
TZNAME:EDT
DTSTART:20240310T070000
END:DAYLIGHT
BEGIN:STANDARD
TZOFFSETFROM:-0400
TZOFFSETTO:-0500
TZNAME:EST
DTSTART:20241103T060000
END:STANDARD
BEGIN:DAYLIGHT
TZOFFSETFROM:-0500
TZOFFSETTO:-0400
TZNAME:EDT
DTSTART:20250309T070000
END:DAYLIGHT
BEGIN:STANDARD
TZOFFSETFROM:-0400
TZOFFSETTO:-0500
TZNAME:EST
DTSTART:20251102T060000
END:STANDARD
BEGIN:DAYLIGHT
TZOFFSETFROM:-0500
TZOFFSETTO:-0400
TZNAME:EDT
DTSTART:20260308T070000
END:DAYLIGHT
BEGIN:STANDARD
TZOFFSETFROM:-0400
TZOFFSETTO:-0500
TZNAME:EST
DTSTART:20261101T060000
END:STANDARD
END:VTIMEZONE
BEGIN:VEVENT
DTSTART;TZID=America/New_York:20251207T100000
DTEND;TZID=America/New_York:20251207T120000
DTSTAMP:20260420T014951
CREATED:20251001T193925Z
LAST-MODIFIED:20251125T204348Z
UID:26990-1765101600-1765108800@demo.agapecode.com
SUMMARY:Ancestral Lineage Clearing
DESCRIPTION:[vc_row css=”.vc_custom_1733769098151{margin-top: 0px !important;margin-bottom: 0px !important;background-color: #1C5567 !important;}”][vc_column][vc_column_text css=”.vc_custom_1733769104648{padding-top: 15px !important;padding-right: 15px !important;padding-bottom: 15px !important;padding-left: 15px !important;}”] \nTICKETS\n[/vc_column_text][/vc_column][/vc_row][vc_row css=”.vc_custom_1759424391964{margin-bottom: 20px !important;border-top-width: 2px !important;border-right-width: 2px !important;border-bottom-width: 2px !important;border-left-width: 2px !important;padding-top: 20px !important;padding-right: 10px !important;padding-bottom: 10px !important;padding-left: 10px !important;background-color: #fbfbfb !important;border-left-style: solid !important;border-right-style: solid !important;border-top-style: solid !important;border-bottom-style: solid !important;border-color: #065f7a !important;}”][vc_column width=”2/3″][vc_column_text css=””]Fees: $ 44 + tax[/vc_column_text][/vc_column][vc_column width=”1/3″ css=”.vc_custom_1585749079629{margin-bottom: 0px !important;padding-right: 10px !important;padding-left: 10px !important;}”][vc_btn title=”BUY NOW” style=”custom” custom_background=”#065f7a” custom_text=”#ffffff” shape=”square” size=”lg” align=”right” css=”.vc_custom_1759423924914{margin-bottom: 0px !important;}” link=”url:https%3A%2F%2Fdemo.agapecode.com%2Fcheckout%2F%3Fadd-to-cart%3D18721|title:Ancestral%20Lineage%20Clearing”][/vc_column][/vc_row][vc_row][vc_column][vc_column_text css=””]Clearing harmful intergenerational imprinting to make this generation and future generations happier. Clearing the ways of negative thinking and being transferred from generation to generation\, mother\, and father ancestral lineages. Forgiveness to free yourself from the karmic entanglement. You’re welcome to prepare offerings to your ancestors- flowers\, incense\, grains\, water\, candle\, a little bit of your family’s favorite meal\, and even a letter from your heart to them. Repeating this class is not free of charge. \nThe event is held on Zoom: https://us04web.zoom.us/j/9074655172?pwd=MbT2GhE8xIhDeaqfSPdoKObZNGZR10.1[/vc_column_text][vc_empty_space][/vc_column][/vc_row]
URL:https://demo.agapecode.com/event/ancestral-lineage-clearing-3/
LOCATION:Quebec
CATEGORIES:Ancient Wisdom
ATTACH;FMTTYPE=image/jpeg:https://demo.agapecode.com/wp-content/uploads/2025/10/502893570_10160991659618239_5482871267056844023_n-a.jpg
ORGANIZER;CN="DivineYu On-Line":MAILTO:info@divineyu.com
END:VEVENT
END:VCALENDAR