BEGIN:VCALENDAR
VERSION:2.0
PRODID:-//DivineYu - ECPv6.15.17//NONSGML v1.0//EN
CALSCALE:GREGORIAN
METHOD:PUBLISH
X-WR-CALNAME:DivineYu
X-ORIGINAL-URL:https://demo.agapecode.com
X-WR-CALDESC:Events for DivineYu
REFRESH-INTERVAL;VALUE=DURATION:PT1H
X-Robots-Tag:noindex
X-PUBLISHED-TTL:PT1H
BEGIN:VTIMEZONE
TZID:America/New_York
BEGIN:DAYLIGHT
TZOFFSETFROM:-0500
TZOFFSETTO:-0400
TZNAME:EDT
DTSTART:20240310T070000
END:DAYLIGHT
BEGIN:STANDARD
TZOFFSETFROM:-0400
TZOFFSETTO:-0500
TZNAME:EST
DTSTART:20241103T060000
END:STANDARD
BEGIN:DAYLIGHT
TZOFFSETFROM:-0500
TZOFFSETTO:-0400
TZNAME:EDT
DTSTART:20250309T070000
END:DAYLIGHT
BEGIN:STANDARD
TZOFFSETFROM:-0400
TZOFFSETTO:-0500
TZNAME:EST
DTSTART:20251102T060000
END:STANDARD
BEGIN:DAYLIGHT
TZOFFSETFROM:-0500
TZOFFSETTO:-0400
TZNAME:EDT
DTSTART:20260308T070000
END:DAYLIGHT
BEGIN:STANDARD
TZOFFSETFROM:-0400
TZOFFSETTO:-0500
TZNAME:EST
DTSTART:20261101T060000
END:STANDARD
BEGIN:DAYLIGHT
TZOFFSETFROM:-0500
TZOFFSETTO:-0400
TZNAME:EDT
DTSTART:20270314T070000
END:DAYLIGHT
BEGIN:STANDARD
TZOFFSETFROM:-0400
TZOFFSETTO:-0500
TZNAME:EST
DTSTART:20271107T060000
END:STANDARD
END:VTIMEZONE
BEGIN:VTIMEZONE
TZID:America/New_York
BEGIN:DAYLIGHT
TZOFFSETFROM:-0500
TZOFFSETTO:-0400
TZNAME:EDT
DTSTART:20250309T070000
END:DAYLIGHT
BEGIN:STANDARD
TZOFFSETFROM:-0400
TZOFFSETTO:-0500
TZNAME:EST
DTSTART:20251102T060000
END:STANDARD
BEGIN:DAYLIGHT
TZOFFSETFROM:-0500
TZOFFSETTO:-0400
TZNAME:EDT
DTSTART:20260308T070000
END:DAYLIGHT
BEGIN:STANDARD
TZOFFSETFROM:-0400
TZOFFSETTO:-0500
TZNAME:EST
DTSTART:20261101T060000
END:STANDARD
BEGIN:DAYLIGHT
TZOFFSETFROM:-0500
TZOFFSETTO:-0400
TZNAME:EDT
DTSTART:20270314T070000
END:DAYLIGHT
BEGIN:STANDARD
TZOFFSETFROM:-0400
TZOFFSETTO:-0500
TZNAME:EST
DTSTART:20271107T060000
END:STANDARD
END:VTIMEZONE
BEGIN:VEVENT
DTSTART;TZID=America/New_York:20251213T140000
DTEND;TZID=America/New_York:20251213T160000
DTSTAMP:20260420T015145
CREATED:20251001T194321Z
LAST-MODIFIED:20251213T125010Z
UID:26997-1765634400-1765641600@demo.agapecode.com
SUMMARY:Year 2026 Manifestation
DESCRIPTION:[vc_row css=”.vc_custom_1733769098151{margin-top: 0px !important;margin-bottom: 0px !important;background-color: #1C5567 !important;}”][vc_column][vc_column_text css=”.vc_custom_1733769104648{padding-top: 15px !important;padding-right: 15px !important;padding-bottom: 15px !important;padding-left: 15px !important;}”] \nTICKETS\n[/vc_column_text][/vc_column][/vc_row][vc_row css=”.vc_custom_1759424765877{margin-bottom: 20px !important;border-top-width: 2px !important;border-right-width: 2px !important;border-bottom-width: 2px !important;border-left-width: 2px !important;padding-top: 20px !important;padding-right: 10px !important;padding-bottom: 10px !important;padding-left: 10px !important;background-color: #fbfbfb !important;border-left-style: solid !important;border-right-style: solid !important;border-top-style: solid !important;border-bottom-style: solid !important;border-color: #065f7a !important;}”][vc_column width=”2/3″][vc_column_text css=””]Fees: $ 44 + tax[/vc_column_text][/vc_column][vc_column width=”1/3″ css=”.vc_custom_1585749079629{margin-bottom: 0px !important;padding-right: 10px !important;padding-left: 10px !important;}”][vc_btn title=”BUY NOW” style=”custom” custom_background=”#065f7a” custom_text=”#ffffff” shape=”square” size=”lg” align=”right” css=”.vc_custom_1759424739851{margin-bottom: 0px !important;}” link=”url:https%3A%2F%2Fdemo.agapecode.com%2Fcheckout%2F%3Fadd-to-cart%3D14107|title:Year%202026%20Manifestation”][/vc_column][/vc_row][vc_row][vc_column][vc_column_text css=””]Create with joy your 2026! You’ll receive energy for your manifestation. Get ready- the year of the Fire Horse will begin on February 17\, 2026. It’s a brilliant\, lively\, independent\, fast force\, a powerful drive toward living authentically and achieving personal development goals! Think about five images of what you want to manifest in 2026\, before you join the Manifestation class on Saturday\, December 13th at 2 pm EDT. Repeating this class is not free of charge. \nThe event is held on Zoom: https://us04web.zoom.us/j/9074655172?pwd=MbT2GhE8xIhDeaqfSPdoKObZNGZR10.1[/vc_column_text][/vc_column][/vc_row]
URL:https://demo.agapecode.com/event/year-2026-manifestation/
LOCATION:Online
CATEGORIES:Meditation
ATTACH;FMTTYPE=image/jpeg:https://demo.agapecode.com/wp-content/uploads/2025/10/FireHorse-scaled.jpg
ORGANIZER;CN="DivineYu On-Line":MAILTO:info@divineyu.com
END:VEVENT
BEGIN:VEVENT
DTSTART;TZID=America/New_York:20251214T120000
DTEND;TZID=America/New_York:20251214T140000
DTSTAMP:20260420T015145
CREATED:20251001T192639Z
LAST-MODIFIED:20251201T213634Z
UID:26976-1765713600-1765720800@demo.agapecode.com
SUMMARY:Holiday Celebration Party
DESCRIPTION:[vc_row][vc_column][vc_column_text css=””]Let’s celebrate together our compassion\, kindness and harmony at the Resto Vego\, 1720 rue Saint-Denis\, Montréal\, H2X 3K6. Vegan buffet with appetizers\, main meal\, and plenty of desserts. We’re meeting at the first floor at the weight buffet\, choosing among more than 100 dishes. Our table will on be on the ground floor\, look for the largest table. 5-minute walk from the Berri-UQAM Metro (Orange\, Green and Yellow Line). Click Here to see the Parking Options \n“Resto Végo combines 40 years experience in vegetarian restaurants along with a team of people who are passionate about good nutrition. Under one roof\, Resto Vego offers you two options; the Buffet and the Gourmet Counter to please clients of all ages and lifestyles. Located directly on St-Denis Street\, we invite you to come take in our warm atmosphere when visiting Montreal’s Latin Quarter. With our 3 levels\, the restaurant offers a soothing environment all in a century-old home. It’s the perfect setting to be inspired and discover new flavours.” https://restovego.ca/en/about-us/[/vc_column_text][/vc_column][/vc_row]
URL:https://demo.agapecode.com/event/holiday-celebration-party-2/
LOCATION:Online
ATTACH;FMTTYPE=image/png:https://demo.agapecode.com/wp-content/uploads/2025/10/Screenshot-1647.png
ORGANIZER;CN="DivineYu Academy":MAILTO:info@divineyu.com
END:VEVENT
BEGIN:VEVENT
DTSTART;TZID=America/New_York:20251215T080000
DTEND;TZID=America/New_York:20260118T200000
DTSTAMP:20260420T015145
CREATED:20251002T174440Z
LAST-MODIFIED:20251002T174618Z
UID:27029-1765785600-1768766400@demo.agapecode.com
SUMMARY:Holidays
DESCRIPTION:Happy Holidays!
URL:https://demo.agapecode.com/event/holidays-5/
LOCATION:Online
ATTACH;FMTTYPE=image/jpeg:https://demo.agapecode.com/wp-content/uploads/2020/08/events_divineyu_holidays.jpg
ORGANIZER;CN="DivineYu On-Line":MAILTO:info@divineyu.com
END:VEVENT
BEGIN:VEVENT
DTSTART;TZID=America/New_York:20260124T133000
DTEND;TZID=America/New_York:20260124T163000
DTSTAMP:20260420T015145
CREATED:20251225T115036Z
LAST-MODIFIED:20251225T133050Z
UID:27320-1769261400-1769272200@demo.agapecode.com
SUMMARY:Spiritual Heart Healing through Meditation & Sound with Karine Ste-Marie
DESCRIPTION:[vc_row css=”.vc_custom_1718732102049{margin-top: 0px !important;margin-bottom: 0px !important;background-color: #184e66 !important;}”][vc_column][vc_column_text css=”.vc_custom_1585748246249{padding-top: 15px !important;padding-right: 15px !important;padding-bottom: 15px !important;padding-left: 15px !important;}”] \nTICKETS\n[/vc_column_text][/vc_column][/vc_row][vc_row css=”.vc_custom_1585749133108{border-top-width: 2px !important;border-right-width: 2px !important;border-bottom-width: 2px !important;border-left-width: 2px !important;padding-top: 20px !important;padding-right: 10px !important;padding-bottom: 10px !important;padding-left: 10px !important;background-color: #fbfbfb !important;border-left-color: #30a8cc !important;border-left-style: solid !important;border-right-color: #30a8cc !important;border-right-style: solid !important;border-top-color: #30a8cc !important;border-top-style: solid !important;border-bottom-color: #30a8cc !important;border-bottom-style: solid !important;}”][vc_column width=”2/3″][vc_column_text css=””]Price: $ 50 + tax \nTickets for attending Event: Spiritual Heart Healing through Meditation & Sound with Karine Ste-Marie\n[/vc_column_text][/vc_column][vc_column width=”1/3″ css=”.vc_custom_1585749079629{margin-bottom: 0px !important;padding-right: 10px !important;padding-left: 10px !important;}”][vc_btn title=”BUY TICKETS” style=”custom” custom_background=”#184e66″ custom_text=”#ffffff” shape=”square” size=”lg” align=”right” css=”.vc_custom_1766669448318{margin-bottom: 0px !important;}” link=”url:https%3A%2F%2Fdemo.agapecode.com%2Fcheckout%2F%3Fadd-to-cart%3D27007|title:Sound%20Healing%20with%20Karine%20Ste-Marie”][/vc_column][/vc_row][vc_row css=”.vc_custom_1766665481749{margin-top: 20px !important;}”][vc_column][vc_column_text css=””]2 hour activity on the theme: Spiritual Heart Healing through meditation & sound (a journey through forgiveness of others and the self). \n372 Rue Sainte-Catherine O Suite #118\, first floor\, Montréal\, QC H3B 1A4 \nKarine Ste-Marie is a French-Canadian vocalist and sound healing practitioner whose journey bridges the worlds of music and medicine. After nearly two decades performing on international stages — including The Voice Canada\, radio airplay\, and cruise ship residencies — she traveled through Central and South America to study ancestral healing arts\, ceremonial singing\, and sound therapy. Her new album Sacred Breath weaves these experiences into an immersive soundscape that invites deep presence and emotional release. Through her concerts\, sound journeys\, and cacao ceremonies\, Karine creates sacred spaces where voice\, vibration\, and heart come together in transformation.[/vc_column_text][/vc_column][/vc_row][vc_row][vc_column][vc_gallery interval=”3″ images=”27331\,27332\,27333″ img_size=”full” css=””][/vc_column][/vc_row]
URL:https://demo.agapecode.com/event/spiritual-heart-healing-through-meditation-sound-with-karine-ste-marie/
LOCATION:Ashtanga Yoga\, 372 Rue Sainte-Catherine O\, Montreal\, Quebec\, H3B 1A4\, Canada
CATEGORIES:Wellness
ATTACH;FMTTYPE=image/jpeg:https://demo.agapecode.com/wp-content/uploads/2025/12/Karine-Ste-Marie_Sound-Healing.jpg
ORGANIZER;CN="DivineYu Academy":MAILTO:info@divineyu.com
END:VEVENT
BEGIN:VEVENT
DTSTART;TZID=America/New_York:20260626T150000
DTEND;TZID=America/New_York:20260628T150000
DTSTAMP:20260420T015145
CREATED:20250819T235751Z
LAST-MODIFIED:20251125T193721Z
UID:16350-1782486000-1782658800@demo.agapecode.com
SUMMARY:Spiritual Healing Retreat
DESCRIPTION:[vc_row css=”.vc_custom_1714145091366{margin-top: 0px !important;margin-bottom: 0px !important;background-color: #065f7a !important;}”][vc_column][vc_column_text css=”.vc_custom_1585748246249{padding-top: 15px !important;padding-right: 15px !important;padding-bottom: 15px !important;padding-left: 15px !important;}”] \nTICKETS\n[/vc_column_text][/vc_column][/vc_row][vc_row css=”.vc_custom_1714145100718{border-top-width: 2px !important;border-right-width: 2px !important;border-bottom-width: 2px !important;border-left-width: 2px !important;padding-top: 20px !important;padding-right: 10px !important;padding-bottom: 10px !important;padding-left: 10px !important;background-color: #fbfbfb !important;border-left-color: #065f7a !important;border-left-style: solid !important;border-right-color: #065f7a !important;border-right-style: solid !important;border-top-color: #065f7a !important;border-top-style: solid !important;border-bottom-color: #065f7a !important;border-bottom-style: solid !important;}”][vc_column width=”2/3″][vc_column_text css=””]Fees: $ 445 + tax \nSpiritual Healing Retreat[/vc_column_text][/vc_column][vc_column width=”1/3″ css=”.vc_custom_1585749079629{margin-bottom: 0px !important;padding-right: 10px !important;padding-left: 10px !important;}”][vc_btn title=”BUY TICKETS” style=”custom” custom_background=”#065f7a” custom_text=”#ffffff” shape=”square” size=”lg” align=”right” css=”.vc_custom_1755725771693{margin-bottom: 0px !important;}” link=”url:https%3A%2F%2Fdemo.agapecode.com%2Fcheckout%2F%3Fadd-to-cart%3D26898|title:Spiritual%20Renewal%20Retreat”][/vc_column][/vc_row][vc_row css=”.vc_custom_1649282759058{margin-bottom: 20px !important;}”][vc_column][vc_column_text css=”.vc_custom_1764096762840{margin-top: 15px !important;}”]PEACE FOR THE SOUL – MEDITATION RETREAT \nThis retreat is focused on spiritual healing. Relax\, rejuvenate and energize. Immerse yourself in an environment where you can focus on your health and well-being. Plan your stay today in this heaven\, a vortex of energy for spiritual healing and awakening\, that will allow you to recharge batteries and regain energy and enthusiasm. \nAddress: 196 rang de la Montagne\, St. Etienne de Bolton\, Quebec\, Canada\, J0E 2E0 (about 1 hour drive from Montreal). Arrival: Friday\, June 26th at 3 pm (dinner is provided) and Departure: Sunday\, June 28th at 3 pm (breakfast and lunch are provided). $445 +tax if payment is made prior to February 23\, 2026\, and accommodations in double rooms. $495 + tax if payment is made after February 23\, 2026\, and accommodations in triple or quadruple rooms.[/vc_column_text][/vc_column][/vc_row][vc_row][vc_column][academia_heading title=”What is included?” title_size=”fs-18″ show_icon=”” text_align=”text-left”][/vc_column][/vc_row][vc_row css=”.vc_custom_1649282775298{margin-top: 20px !important;margin-bottom: 20px !important;}”][vc_column][vc_column_text css=””] \n\nA private retreat center with 40 acres\, a lake and a panoramic view.\nReserved only for our group.\nAccommodations in double rooms.\nPrivate whole food chef – 6 healthy and delicious meals.\nTeachings\, ceremonies\, holistic therapies.\nStrong spiritual energy connected with the divine consciousness of Babaji and 18 South Indian Siddhas.\n$150 health insurance receipt.\nCertificate for 16 hours of Wellness Therapies training.\n\n[/vc_column_text][/vc_column][/vc_row][vc_row][vc_column][academia_heading title=”Activities” title_size=”fs-18″ show_icon=”” text_align=”text-left”][/vc_column][/vc_row][vc_row css=”.vc_custom_1649282790285{margin-top: 20px !important;margin-bottom: 20px !important;}”][vc_column][vc_column_text] \n\nExperience a sunset meditation on a beautiful lake with a view of Mount Orford.\nHave a great time and giggles with your spiritual community.\nReceive personal loving care.\nParticipate in a water ceremony and in a fire ceremony.\nTake time for yourself to rebalance and harmonize.\n\n[/vc_column_text][/vc_column][/vc_row][vc_row][vc_column][academia_heading title=”What to bring” title_size=”fs-18″ show_icon=”” text_align=”text-left”][/vc_column][/vc_row][vc_row css=”.vc_custom_1649282807461{margin-top: 20px !important;margin-bottom: 20px !important;}”][vc_column][vc_column_text]Feel free to bring your swimsuit\, after-swim towel\, comfortable clothes\, sunhat\, and toiletries.\nMoments that we experience at the Holy Days spiritual retreats fill our souls with joy and strength.[/vc_column_text][/vc_column][/vc_row][vc_row css=”.vc_custom_1622075436856{margin-top: 20px !important;}”][vc_column][vc_column_text] \nPHOTO GALLERY \n[/vc_column_text][vc_row_inner css=”.vc_custom_1622072736852{margin-top: 30px !important;}”][vc_column_inner][vc_column_text]\n\n		\n			\n			\n										\n							\n\n							\n													\n												\n							\n\n							\n													\n												\n							\n\n							\n													\n												\n							\n\n							\n													\n												\n							\n\n							\n													\n												\n							\n\n							\n													\n												\n							\n\n							\n													\n												\n							\n\n							\n													\n												\n							\n\n							\n													\n												\n							\n\n							\n													\n												\n							\n\n							\n													\n									\n			\n			\n						\n			\n										\n											\n											\n											\n											\n											\n											\n											\n											\n											\n											\n								\n						\n		\n		\n[/vc_column_text][/vc_column_inner][/vc_row_inner][/vc_column][/vc_row][vc_row css=”.vc_custom_1622075497701{margin-top: 30px !important;}”][vc_column][vc_column_text] \nDivineYu Academy highly recommends attending two spiritual retreats in nature each year for self-healing\, wellness and your spiritual evolution. Disconnect from busy city life\, to connect with nature and reach a state of deep relaxation.[/vc_column_text][/vc_column][/vc_row][vc_row][vc_column][vc_btn title=”READ MORE” shape=”square” color=”info” css=”.vc_custom_1592405568415{margin-top: 20px !important;}” link=”url:https%3A%2F%2Fdemo.agapecode.com%2Fwellness-holy-days-in-quebec%2F|title:Wellness%20Holy%20Days%20in%20Quebec||”][/vc_column][/vc_row][vc_row][vc_column][vc_column_text css=”.vc_custom_1755648878945{margin-top: 20px !important;}”] \nWellness Holy Days In Eastern Townships 2021 Facebook Photo Gallery\n[/vc_column_text][/vc_column][/vc_row]
URL:https://demo.agapecode.com/event/spiritual-healing-retreat/
LOCATION:Eastern Townships\, 196 rang de la Montagne\, St. Etienne de Bolton\, Quebec\, J0E 2E0\, Canada
CATEGORIES:Wellness
ATTACH;FMTTYPE=image/jpeg:https://demo.agapecode.com/wp-content/uploads/2025/08/IMG_2520-Spiritual-scaled.jpg
ORGANIZER;CN="GM Brana":MAILTO:info@divineyu.com
END:VEVENT
END:VCALENDAR