BEGIN:VCALENDAR
VERSION:2.0
PRODID:-//DivineYu - ECPv6.15.20//NONSGML v1.0//EN
CALSCALE:GREGORIAN
METHOD:PUBLISH
X-WR-CALNAME:DivineYu
X-ORIGINAL-URL:https://demo.agapecode.com
X-WR-CALDESC:Events for DivineYu
REFRESH-INTERVAL;VALUE=DURATION:PT1H
X-Robots-Tag:noindex
X-PUBLISHED-TTL:PT1H
BEGIN:VTIMEZONE
TZID:America/New_York
BEGIN:DAYLIGHT
TZOFFSETFROM:-0500
TZOFFSETTO:-0400
TZNAME:EDT
DTSTART:20240310T070000
END:DAYLIGHT
BEGIN:STANDARD
TZOFFSETFROM:-0400
TZOFFSETTO:-0500
TZNAME:EST
DTSTART:20241103T060000
END:STANDARD
BEGIN:DAYLIGHT
TZOFFSETFROM:-0500
TZOFFSETTO:-0400
TZNAME:EDT
DTSTART:20250309T070000
END:DAYLIGHT
BEGIN:STANDARD
TZOFFSETFROM:-0400
TZOFFSETTO:-0500
TZNAME:EST
DTSTART:20251102T060000
END:STANDARD
BEGIN:DAYLIGHT
TZOFFSETFROM:-0500
TZOFFSETTO:-0400
TZNAME:EDT
DTSTART:20260308T070000
END:DAYLIGHT
BEGIN:STANDARD
TZOFFSETFROM:-0400
TZOFFSETTO:-0500
TZNAME:EST
DTSTART:20261101T060000
END:STANDARD
END:VTIMEZONE
BEGIN:VEVENT
DTSTART;TZID=America/New_York:20250802T110000
DTEND;TZID=America/New_York:20250802T190000
DTSTAMP:20260423T045928
CREATED:20241209T220439Z
LAST-MODIFIED:20250801T185238Z
UID:24705-1754132400-1754161200@demo.agapecode.com
SUMMARY:Sacred Fire in the Laurentides
DESCRIPTION:[vc_row css=”.vc_custom_1733769098151{margin-top: 0px !important;margin-bottom: 0px !important;background-color: #1C5567 !important;}”][vc_column][vc_column_text css=”.vc_custom_1733769104648{padding-top: 15px !important;padding-right: 15px !important;padding-bottom: 15px !important;padding-left: 15px !important;}”] \nTICKETS\n[/vc_column_text][/vc_column][/vc_row][vc_row css=”.vc_custom_1714145496506{border-top-width: 2px !important;border-right-width: 2px !important;border-bottom-width: 2px !important;border-left-width: 2px !important;padding-top: 20px !important;padding-right: 10px !important;padding-bottom: 10px !important;padding-left: 10px !important;background-color: #fbfbfb !important;border-left-color: #065f7a !important;border-left-style: solid !important;border-right-color: #065f7a !important;border-right-style: solid !important;border-top-color: #065f7a !important;border-top-style: solid !important;border-bottom-color: #065f7a !important;border-bottom-style: solid !important;}”][vc_column width=”2/3″][vc_column_text css=””]Fees: $ 250 + tax \nSacred Fire in the Laurentides. The registration is closed. The retreat is full. Thank you for your interest.[/vc_column_text][/vc_column][vc_column width=”1/3″ css=”.vc_custom_1585749079629{margin-bottom: 0px !important;padding-right: 10px !important;padding-left: 10px !important;}”][vc_btn title=”BUY NOW” style=”custom” custom_background=”#065f7a” custom_text=”#ffffff” shape=”square” size=”lg” align=”right” css=”.vc_custom_1733840022903{margin-bottom: 0px !important;}” link=”url:https%3A%2F%2Fdemo.agapecode.com%2Fcheckout%2F%3Fadd-to-cart%3D24735|title:Sacred%20Fire%20in%20the%20Laurentides”][/vc_column][/vc_row][vc_row css=”.vc_custom_1733840083000{margin-top: 20px !important;}”][vc_column][vc_column_text css=””]A day in nature\, an energy vortex for spiritual awakening that sits on the Pre-Cambrian stones. \nWe invite you to arrive in Val-David at 10 am and enjoy a joyful atmosphere at the Val-David market\, with many local producers. Val-David is about 1hr and 30minute drive from Montreal. Take Exit 76 from HW 15 North\, to Val-David / Val-Morin\, HW 117. \n11 am – meetup with the group at 2494 Rue de l’Église\, Val-David\, QC J0T 2N0\n11:30 – picnic at the Parc des Amoureux at chemin de la Riviere near the river\, light whole food plant-based lunch will be provided\n12:00 to 2:30 pm – meditation walk at the Mount Condor route in the Val-David Regional park\, 1165 Chem. du Condor\, Val-David\, QC J0T 2N0 with Precambrian stones\, the oldest rocks on Earth\, that were also the tallest (like Mount Everest today)\, 3.8 km\n3 pm – 4 pm energy healing practices\, 5 elements\, mantras 5 Buddha families wisdom mandala\n4 pm to 5 pm – delicious\, whole-food plant-based dinner\n5 pm to 7 pm – water song\, fire ceremony with the sacred cacao (cold version)\, remembering the dreams tea\nMedicinal Wheel: ancestral lineage clearing\, clearing stress from childhood\nIntegration of the Andean Medicine Wheel with the North American Native Medicine Wheel \nForecasted temperature: 15 to 25 Celsius\, please wear a sunhat\, comfortable clothes in layers\, as well as good hiking shoes. \n \nAuthor and Shamanka teachings founder Ilka Marcenay- Bearfoot will open and host the fire ceremony and Medicine Wheel. For more than 25 years\, Ilka has been walking a soul path of encounters\, rituals\, healings and teachings from around the world. She crossed the road of Médecine du Quebec men and women and a Mi’kmaq grandfather from New Brunswick\, who passed on the teachings of the Medicine Wheel\, the sweat hut\, and the sacred songs of his people. She also completed Shamanic Practitioner Training with The Medicine Circle in Toronto\, where she learned to offer shamanic treatments. She has discovered that she was mostly wearing Bear Medicine\, deep healing of hidden emotions and memories. She was initiated for seven years by the Mongolian shaman Grandmother Ayangat\, and she visited Mongolia four times. She wears the traditional drum and armor today\, and has been initiated into the Oracle Ritual\, a sacred ceremony specific to this culture. Nepalese Shaman Bhola Banstola also passed on his teachings to her in Nepal. She received the Nepalese drum there\, carrying their ancient wisdom. She has been twice to Swedish Lapland\, where she shared knowledge with a Sami shaman. In New Zealand\, she received the teachings of Maori healers and participated in a number of initiation rituals imbued with depth and wisdom. In the US\, she experienced a Vision Quest in the Sacred Valley of Chelly with the Navajos- a remarkable experience connecting with the Earth. She had the honour to represent Canada for two consecutive years at the Festival du Shamanism in France. She also taught the Four Directions Dance at the Healing and Tradition Dances Meeting. She was invited to Morocco at the Noujoum event – Union of Shamanic Wisdoms of the World\, as a representative from Canada\, to share her Medicine. On the terms of dreams and the unconscious\, she studied for four years with Robert Moss\, a renowned active dream specialist and was interested in Carl G’s psychology of the depths\, and Jung’s anima and animus archetypes. She has participated in many initial trips\, either alone or in group\, to Egypt\, Vanuatu\, Japan\, India\, Bali\, Hawaii\, Mexico\, Peru and Mount Shasta\, the United States. She also passed on the teachings received in several countries: France\, Belgium\, Switzerland\, to Saint-Pierre-et-Miquelon and to New Caledonia in the Pacific. Ilka published a book about shamanism at Vega editions in Paris\, titled Walking in your shamanic power\, on the traces of ancestral traditions. \n\nIlka Marcenay-Bearfoot \nIncluded: teachings\, 2 meals\, entry in the park\, cacao ceremony\, access to the 5 Buddha family mandala energy portal and the Medicine Wheel and fire ceremony by the Shamanka. Fire holder: Reiki GM Michael Polisena. \nPlaces to stay overnight within 5 to 20 minutes drive:\nChaumiere Fleur Solei in Val-David phone (819) 322-5413\nLe Couvent Val-Morin phone (819) 320-0545\nShivananda Yoga Camp phone (819) 322-3226\nApartments Val-David phone  (514) 781 4663\nOberge Inn in Val-David phone (819) 216-1459 \nOn Sunday\, you could maybe plan to visit the Clef des Champs gardens in Val-David\, Gourment Sauvage in Mont Blanc or Mont Tremblant.[/vc_column_text][/vc_column][/vc_row][vc_row css=”.vc_custom_1754053337714{margin-top: 30px !important;}”][vc_column][vc_column_text css=””]I\, the “Participant“\, agree to the terms in connection with my participation in the Sacred Fire in the Laurentides Retreat in Val-David (the “Retreat“) on August 2\, 2025. \nI voluntarily assume full responsibility for any risks of loss\, property damage\, or personal injury\, whether foreseen or unforeseen\, that may be sustained by me\, as a result of my participation in the Retreat\, and all Related Activities incident thereto. “Related Activities” means any matters and activities related directly or indirectly to the Retreat\, including\, but not limited to\, travel to the Retreat destination\, lodging at the destination\, yoga\, dance\, recreational activities\, excursions\, side trips\, and any activity which takes place between my leaving home to the Retreat and my return.  I agree to indemnify and hold harmless DivineYu\, 8999821 Canada Inc.\, its directors and officers\, contractors\, teachers\, employees\, representatives\, the retreat center\, and its representatives (collectively “Released Parties”) against any claims\, suits\, or actions of any kind whatsoever for liability\, damages\, compensation or otherwise brought by me or anyone on my behalf in regards to the Retreat and Related Activities. \nIf I should require medical care or treatment\, I agree to be financially responsible for any costs incurred as a result of such treatment. I am aware and understand that I should carry my medical card and my health insurance.  I warrant that I have no physical\, emotional\, or psychological condition\, which would keep me from participating in and enjoying the benefits of the Retreat.[/vc_column_text][/vc_column][/vc_row]
URL:https://demo.agapecode.com/event/sacred-fire-in-the-laurentides/
LOCATION:Eglise de Val-David\, 2494 Rue de l'Église\, Val-David\, J0T 2N0\, Canada
CATEGORIES:Wellness
ATTACH;FMTTYPE=image/jpeg:https://demo.agapecode.com/wp-content/uploads/2024/12/DSC_1235-scaled.jpg
ORGANIZER;CN="DivineYu On-Line":MAILTO:info@divineyu.com
END:VEVENT
BEGIN:VEVENT
DTSTART;TZID=America/New_York:20250808T190000
DTEND;TZID=America/New_York:20250808T200000
DTSTAMP:20260423T045928
CREATED:20250722T121921Z
LAST-MODIFIED:20250722T135733Z
UID:26774-1754679600-1754683200@demo.agapecode.com
SUMMARY:Lion Gate Activation Meditation
DESCRIPTION:[vc_row][vc_column][vc_column_text css=””]The Lion’s Gate on the 8th day of the 8th month creates an incredible opportunity for accelerated spiritual awakening. When this alignment happens\, the awakening codes that carry mastery\, sacred wisdom and evolution are transmitted from spiritual realms towards the Earth. The Lion’s Gate energy helps us to more fully awaken our Divine Light and embody Divinity within a physical form. When we rotate 8\, we get an infinity sign. \nThe meditation will be hosted on-line. Join us from anywhere in the world. \nIf you would like to attend the Lion Gate Activation meditation\, please RSVP and you’ll receive an on-line meditation link. \nYou are welcome in your meditation to ask for spiritual awakening\, peace and healing of all those who are ready to receive it on the Earth. You are invited to make yourself available as a channel of Divine Love. Just be. Allow yourself to experience bliss. \nMeditation\nCenter in your Sacred Heart Space\nIntend to bring Spiritual Healing and Awakening Energy to the Earth\nIntend to connect with the Holy Beings\nAllow yourself to be a channel of Unconditional Compassion for all\nRadiate blessings from your heart towards yourself\nRadiate blessings from your heart towards all those around you\nRadiate blessings from your heart towards your family and friends\nRadiate blessings towards the Earth\nBless the Soil and plants on the Earth\nBless the Waters of the Earth\nBless the Sun\nBless the Air\nBless all Animals\nBless all Beings\nStay in this meditation radiating blessings from your heart[/vc_column_text][/vc_column][/vc_row][vc_row css=”.vc_custom_1713720424109{margin-bottom: 30px !important;background-color: #eaf6f9 !important;}”][vc_column css=”.vc_custom_1713720308112{padding-top: 20px !important;padding-right: 5% !important;padding-bottom: 20px !important;padding-left: 5% !important;}”][academia_icon_box layout_style=”style5″ icon_type=”fontawesome” icon_fontawesome=”fas fa-globe” icon_color=”#8c1115″ link=”url:%20https%3A%2F%2Fus04web.zoom.us%2Fj%2F9074655172%3Fpwd%3DMbT2GhE8xIhDeaqfSPdoKObZNGZR10.1|title:How%20to%20join%20this%20event%20online”][vc_column_text]How to join this event online? \n\nOn this event page\, click on RSVP to reserve your place.\nMake sure that you are connected to the Internet and open a web browser.\nClick on: https://us04web.zoom.us/j/9074655172?pwd=MbT2GhE8xIhDeaqfSPdoKObZNGZR10.1\nClick on the Open Zoom Meetings button.\nWhen you log in please mute your speaker.\nYou are welcome to enable your camera.\nThere is a chat button for questions.\n\n[/vc_column_text][/vc_column][/vc_row]
URL:https://demo.agapecode.com/event/lion-gate-activation-meditation/
LOCATION:Online
CATEGORIES:Meditation,Wellness
ATTACH;FMTTYPE=image/webp:https://demo.agapecode.com/wp-content/uploads/2024/12/lion-gate.webp
ORGANIZER;CN="GM Brana":MAILTO:info@divineyu.com
END:VEVENT
BEGIN:VEVENT
DTSTART;TZID=America/New_York:20250823T103000
DTEND;TZID=America/New_York:20250824T170000
DTSTAMP:20260423T045928
CREATED:20250421T215453Z
LAST-MODIFIED:20250506T145448Z
UID:26221-1755945000-1756054800@demo.agapecode.com
SUMMARY:DivineYu Reiki Grandmaster and Teacher
DESCRIPTION:[vc_row css=”.vc_custom_1714145432459{margin-top: 0px !important;margin-bottom: 0px !important;background-color: #8c1115 !important;}”][vc_column][vc_column_text css=”.vc_custom_1585748246249{padding-top: 15px !important;padding-right: 15px !important;padding-bottom: 15px !important;padding-left: 15px !important;}”] \nTICKETS\n[/vc_column_text][/vc_column][/vc_row][vc_row css=”.vc_custom_1714145441961{border-top-width: 2px !important;border-right-width: 2px !important;border-bottom-width: 2px !important;border-left-width: 2px !important;padding-top: 20px !important;padding-right: 10px !important;padding-bottom: 10px !important;padding-left: 10px !important;background-color: #fbfbfb !important;border-left-color: #8c1115 !important;border-left-style: solid !important;border-right-color: #8c1115 !important;border-right-style: solid !important;border-top-color: #8c1115 !important;border-top-style: solid !important;border-bottom-color: #8c1115 !important;border-bottom-style: solid !important;}”][vc_column width=”2/3″][vc_column_text]Fees: $ 350 + tax \nDivineYu Reiki Grandmaster and Teacher[/vc_column_text][/vc_column][vc_column width=”1/3″ css=”.vc_custom_1585749079629{margin-bottom: 0px !important;padding-right: 10px !important;padding-left: 10px !important;}”][vc_btn title=”BUY TICKETS” style=”custom” custom_background=”#8c1115″ custom_text=”#ffffff” shape=”square” size=”lg” align=”right” css=”.vc_custom_1745272556594{margin-bottom: 0px !important;}” link=”url:https%3A%2F%2Fdemo.agapecode.com%2Fcheckout%2F%3Fadd-to-cart%3D4272|title:DivineYu%20Reiki%20Grandmaster%20and%20Teacher”][/vc_column][/vc_row][vc_row css=”.vc_custom_1745272411109{margin-top: 20px !important;margin-bottom: 30px !important;}”][vc_column][vc_column_text]Become a Reiki Grandmaster! \nAvailable only to the Eight Degree Masters of Reiki certified by the DivineYu Reiki Academy. This 2-day seminar is developed by GM Brana. Upon completion\, you will receive a Grandmaster Certificate in the DivineYu system of Reiki. This system of Reiki is not based on a particular religion\, but the ancient knowledge closely connected with the scientific models of universe creation. DivineYu Reiki Grandmaster has many virtues\, especially compassion. \nDuration: 2 days[/vc_column_text][vc_column_text css=”.vc_custom_1726487263560{margin-top: 30px !important;}”] \n\nHow to Master Yourself;\nUsing Platonic Solids for Balancing and harmonization;\nEnergy Practices for Harmony;\nReiki 9 Energy Surgery;\nMethods for Creating Virtues;\nPouring Divine Blessings;\nReiki Grandmaster Guidelines;\nReiki 9 initiations: Heart and Third Eye\, Love and Wisdom;\nSpiritual roles: spiritual light carrier\, spiritual warrior\, spiritual teacher\, spiritual healer\, spiritual creator.\nHow to do Reiki 1 to 3 initiations.\n\n[/vc_column_text][/vc_column][/vc_row][vc_row css=”.vc_custom_1713720424109{margin-bottom: 30px !important;background-color: #eaf6f9 !important;}”][vc_column css=”.vc_custom_1713720308112{padding-top: 20px !important;padding-right: 5% !important;padding-bottom: 20px !important;padding-left: 5% !important;}”][academia_icon_box layout_style=”style5″ icon_type=”fontawesome” icon_fontawesome=”fas fa-globe” icon_color=”#8c1115″ link=”url:%20https%3A%2F%2Fus04web.zoom.us%2Fj%2F9074655172%3Fpwd%3DMbT2GhE8xIhDeaqfSPdoKObZNGZR10.1|title:How%20to%20join%20this%20event%20online”][vc_column_text]How to join this event online? \n\nOn this event page\, click on RSVP to reserve your place.\nMake sure that you are connected to the Internet and open a web browser.\nClick on: https://us04web.zoom.us/j/9074655172?pwd=MbT2GhE8xIhDeaqfSPdoKObZNGZR10.1\nClick on the Open Zoom Meetings button.\nWhen you log in please mute your speaker.\nYou are welcome to enable your camera.\nThere is a chat button for questions.\n\n[/vc_column_text][/vc_column][/vc_row]
URL:https://demo.agapecode.com/event/divineyu-reiki-grandmaster-and-teacher-6/
LOCATION:Online
CATEGORIES:Reiki
ATTACH;FMTTYPE=image/jpeg:https://demo.agapecode.com/wp-content/uploads/2019/03/reiki_grandmaster_and_teacher_events.jpg
ORGANIZER;CN="DivineYu On-Line":MAILTO:info@divineyu.com
END:VEVENT
BEGIN:VEVENT
DTSTART;TZID=America/New_York:20250830T100000
DTEND;TZID=America/New_York:20250830T170000
DTSTAMP:20260423T045928
CREATED:20250722T110906Z
LAST-MODIFIED:20250722T110939Z
UID:26765-1756548000-1756573200@demo.agapecode.com
SUMMARY:Second Degree DivineYu Usui Reiki
DESCRIPTION:[vc_row css=”.vc_custom_1714145334271{margin-top: 0px !important;margin-bottom: 0px !important;background-color: #065f7a !important;}”][vc_column][vc_column_text css=”.vc_custom_1585748246249{padding-top: 15px !important;padding-right: 15px !important;padding-bottom: 15px !important;padding-left: 15px !important;}”] \nTICKETS\n[/vc_column_text][/vc_column][/vc_row][vc_row css=”.vc_custom_1714145345421{border-top-width: 2px !important;border-right-width: 2px !important;border-bottom-width: 2px !important;border-left-width: 2px !important;padding-top: 20px !important;padding-right: 10px !important;padding-bottom: 10px !important;padding-left: 10px !important;background-color: #fbfbfb !important;border-left-color: #065f7a !important;border-left-style: solid !important;border-right-color: #065f7a !important;border-right-style: solid !important;border-top-color: #065f7a !important;border-top-style: solid !important;border-bottom-color: #065f7a !important;border-bottom-style: solid !important;}”][vc_column width=”2/3″][vc_column_text]Fees: $ 200 + tax \nSecond Degree DivineYu Usui Reiki[/vc_column_text][/vc_column][vc_column width=”1/3″ css=”.vc_custom_1585749079629{margin-bottom: 0px !important;padding-right: 10px !important;padding-left: 10px !important;}”][vc_btn title=”BUY TICKETS” style=”custom” custom_background=”#065f7a” custom_text=”#ffffff” shape=”square” size=”lg” align=”right” css=”.vc_custom_1723382148387{margin-bottom: 0px !important;}” link=”url:https%3A%2F%2Fdemo.agapecode.com%2Fcheckout%2F%3Fadd-to-cart%3D4256|title:Second%20Degree%20On-line%20Reiki%20Seminar”][/vc_column][/vc_row][vc_row css=”.vc_custom_1738169350376{margin-top: 20px !important;margin-bottom: 20px !important;}”][vc_column][vc_column_text css=””]Manifest Your Dreams in Harmony! \nUpdate: The class will be given in person in Ville Saint Laurent and online. \nUpon completion\, you will receive a Second Degree Certificate in the DivineYu Usui system of Reiki from the DivineYu Academy. \nThe Second Degree Reiki class takes you much deeper into the system of Reiki. It gives you tools to begin your journey as a professional Reiki practitioner. The effectiveness of your treatment will increase by using methods which are passed down from a Reiki Master to a student. You will also learn how to perform distant treatments and develop your intuition. You will be taught to focus and direct energy for specific conditions and purposes. \n\nContent \n\nCKR – Symbol for increasing the capacity of Reiki energy channels\nSHK – Symbol for protection\, emotional releases and resolving patters of behaviour\nHSZSN – Symbol for bridging of time & space\, distance Reiki\nLaRei – Emergency symbol Methods for manifestation of goals\nPrana breathing for rejuvenation and anti-aging CKR breathing for self-confidence\nManifestation techniques\nApplications\n\nThis experience is incredibly transformational and therapeutic. You’ll learn about advanced methods for self-healing and balancing of body\, emotions and mind. You’ll practice by giving and receiving Reiki energy or self-therapy. You can start providing professional Reiki sessions after the Second Degree Reiki class or using it more effectively for yourself. It’s very energizing and rejuvenating. \nFees: $200 + tax. \nContact: info@divineyu.com to register.[/vc_column_text][/vc_column][/vc_row][vc_row css=”.vc_custom_1713720424109{margin-bottom: 30px !important;background-color: #eaf6f9 !important;}”][vc_column css=”.vc_custom_1713720308112{padding-top: 20px !important;padding-right: 5% !important;padding-bottom: 20px !important;padding-left: 5% !important;}”][academia_icon_box layout_style=”style5″ icon_type=”fontawesome” icon_fontawesome=”fas fa-globe” icon_color=”#8c1115″ link=”url:%20https%3A%2F%2Fus04web.zoom.us%2Fj%2F9074655172%3Fpwd%3DMbT2GhE8xIhDeaqfSPdoKObZNGZR10.1|title:How%20to%20join%20this%20event%20online”][vc_column_text]How to join this event online? \n\nOn this event page\, click on RSVP to reserve your place.\nMake sure that you are connected to the Internet and open a web browser.\nClick on: https://us04web.zoom.us/j/9074655172?pwd=MbT2GhE8xIhDeaqfSPdoKObZNGZR10.1\nClick on the Open Zoom Meetings button.\nWhen you log in please mute your speaker.\nYou are welcome to enable your camera.\nThere is a chat button for questions.\n\n[/vc_column_text][/vc_column][/vc_row]
URL:https://demo.agapecode.com/event/second-degree-divineyu-usui-reiki-23/
LOCATION:Online
CATEGORIES:Reiki
ATTACH;FMTTYPE=image/jpeg:https://demo.agapecode.com/wp-content/uploads/2019/02/second_degree_divineyu_usui_reiki_events.jpg
ORGANIZER;CN="DivineYu On-Line":MAILTO:info@divineyu.com
END:VEVENT
END:VCALENDAR