BEGIN:VCALENDAR
VERSION:2.0
PRODID:-//DivineYu - ECPv6.15.20//NONSGML v1.0//EN
CALSCALE:GREGORIAN
METHOD:PUBLISH
X-ORIGINAL-URL:https://demo.agapecode.com
X-WR-CALDESC:Events for DivineYu
REFRESH-INTERVAL;VALUE=DURATION:PT1H
X-Robots-Tag:noindex
X-PUBLISHED-TTL:PT1H
BEGIN:VTIMEZONE
TZID:America/New_York
BEGIN:DAYLIGHT
TZOFFSETFROM:-0500
TZOFFSETTO:-0400
TZNAME:EDT
DTSTART:20240310T070000
END:DAYLIGHT
BEGIN:STANDARD
TZOFFSETFROM:-0400
TZOFFSETTO:-0500
TZNAME:EST
DTSTART:20241103T060000
END:STANDARD
BEGIN:DAYLIGHT
TZOFFSETFROM:-0500
TZOFFSETTO:-0400
TZNAME:EDT
DTSTART:20250309T070000
END:DAYLIGHT
BEGIN:STANDARD
TZOFFSETFROM:-0400
TZOFFSETTO:-0500
TZNAME:EST
DTSTART:20251102T060000
END:STANDARD
BEGIN:DAYLIGHT
TZOFFSETFROM:-0500
TZOFFSETTO:-0400
TZNAME:EDT
DTSTART:20260308T070000
END:DAYLIGHT
BEGIN:STANDARD
TZOFFSETFROM:-0400
TZOFFSETTO:-0500
TZNAME:EST
DTSTART:20261101T060000
END:STANDARD
END:VTIMEZONE
BEGIN:VEVENT
DTSTART;TZID=America/New_York:20251004T170000
DTEND;TZID=America/New_York:20251004T190000
DTSTAMP:20260421T222408
CREATED:20230428T154334Z
LAST-MODIFIED:20251002T185000Z
UID:20185-1759597200-1759604400@demo.agapecode.com
SUMMARY:FREE- Prayer for Peace in the World
DESCRIPTION:[vc_row][vc_column][vc_column_text css=””]On Saturday\, October 4th from 5 pm to 7 pm EDT at the Saint Joseph’s Oratory of Mount Royal located at 3800 Queen Mary Road in the Côte-des-Neiges neighborhood. Let us create an energy wave of unconditional love\, and pray for world peace. \n5 pm – Meetup in front of the Saint Joseph’s Oratory\, at the top of the stairs\n5:15 pm to 5:30 pm – Prayer for World Peace and Inner Peace each person by themselves under the dome\n5:30 pm to 6:00 pm – Visiting the old chapel\, gardens\, store\n6:00 pm to 7 pm- See the sunset from the stairs \nThe registration is on the DivineYu Academy website only\, please do not call the Oratory to reserve your place! DivineYu Academy phone: (514) 999-4018. If you would like us to pray for you or your loved ones\, please send us their names at info@divineyu.com \nFeel free to arrive earlier to explore the Saint Joseph’s Oratory. From its web-site:\n“As the custodian of a precious material and immaterial heritage\, Saint Joseph’s Oratory of Mount Royal is the largest shrine in the world dedicated to Saint Joseph. It welcomes approximately two million pilgrims and visitors each year\, making it an exceptional spiritual and tourist destination and a symbol of Montreal. Open to the world\, it represents a place of peace and offers unconditional hospitality. Saint Joseph’s Oratory of Mount Royal occupies a significant place in Quebec’s history\, being a religious\, cultural\, and historical symbol. Its history is deeply intertwined with that of Brother André\, who lived in the early 20th century. He is famous for his healing gifts and devotion to Saint Joseph. His unwavering faith and compassion towards the sick and needy have left an indelible mark on Quebec’s history. The building itself is an expression of architectural history spanning different epochs. A visit to the Oratory is also an opportunity to discover a multitude of architectural details\, numerous stained glass windows\, bas-reliefs\, paintings\, mosaics\, and sculptures. Saint Joseph’s Oratory of Mount Royal is a jewel of Quebec’s heritage. Its construction\, growth\, and role as a pilgrimage site are integral parts of the province’s history and culture.”[/vc_column_text][/vc_column][/vc_row]
URL:https://demo.agapecode.com/event/free-prayer-for-peace-in-the-world/
LOCATION:Saint Joseph’s Oratory of Mount Royal\, 3800 Queen Mary Road\, Montreal\, Quebec\, H3V 1H6\, Canada
CATEGORIES:Meditation
ATTACH;FMTTYPE=image/jpeg:https://demo.agapecode.com/wp-content/uploads/2025/08/saint-josephs-oratory-of-mount-royal-1147184_1280.jpg
ORGANIZER;CN="DivineYu On-Line":MAILTO:info@divineyu.com
END:VEVENT
END:VCALENDAR