BEGIN:VCALENDAR
VERSION:2.0
PRODID:-//DivineYu - ECPv6.15.17//NONSGML v1.0//EN
CALSCALE:GREGORIAN
METHOD:PUBLISH
X-WR-CALNAME:DivineYu
X-ORIGINAL-URL:https://demo.agapecode.com
X-WR-CALDESC:Events for DivineYu
REFRESH-INTERVAL;VALUE=DURATION:PT1H
X-Robots-Tag:noindex
X-PUBLISHED-TTL:PT1H
BEGIN:VTIMEZONE
TZID:America/New_York
BEGIN:DAYLIGHT
TZOFFSETFROM:-0500
TZOFFSETTO:-0400
TZNAME:EDT
DTSTART:20240310T070000
END:DAYLIGHT
BEGIN:STANDARD
TZOFFSETFROM:-0400
TZOFFSETTO:-0500
TZNAME:EST
DTSTART:20241103T060000
END:STANDARD
BEGIN:DAYLIGHT
TZOFFSETFROM:-0500
TZOFFSETTO:-0400
TZNAME:EDT
DTSTART:20250309T070000
END:DAYLIGHT
BEGIN:STANDARD
TZOFFSETFROM:-0400
TZOFFSETTO:-0500
TZNAME:EST
DTSTART:20251102T060000
END:STANDARD
BEGIN:DAYLIGHT
TZOFFSETFROM:-0500
TZOFFSETTO:-0400
TZNAME:EDT
DTSTART:20260308T070000
END:DAYLIGHT
BEGIN:STANDARD
TZOFFSETFROM:-0400
TZOFFSETTO:-0500
TZNAME:EST
DTSTART:20261101T060000
END:STANDARD
END:VTIMEZONE
BEGIN:VEVENT
DTSTART;TZID=America/New_York:20251115T100000
DTEND;TZID=America/New_York:20251115T170000
DTSTAMP:20260420T011120
CREATED:20250311T134211Z
LAST-MODIFIED:20251001T184838Z
UID:25904-1763200800-1763226000@demo.agapecode.com
SUMMARY:Past Life Regression Seminar
DESCRIPTION:[vc_row css=”.vc_custom_1714145124684{margin-top: 0px !important;margin-bottom: 0px !important;background-color: #065f7a !important;}”][vc_column][vc_column_text css=”.vc_custom_1585748246249{padding-top: 15px !important;padding-right: 15px !important;padding-bottom: 15px !important;padding-left: 15px !important;}”] \nTICKETS\n[/vc_column_text][/vc_column][/vc_row][vc_row css=”.vc_custom_1714145133671{border-top-width: 2px !important;border-right-width: 2px !important;border-bottom-width: 2px !important;border-left-width: 2px !important;padding-top: 20px !important;padding-right: 10px !important;padding-bottom: 10px !important;padding-left: 10px !important;background-color: #fbfbfb !important;border-left-color: #065f7a !important;border-left-style: solid !important;border-right-color: #065f7a !important;border-right-style: solid !important;border-top-color: #065f7a !important;border-top-style: solid !important;border-bottom-color: #065f7a !important;border-bottom-style: solid !important;}”][vc_column width=”2/3″][vc_column_text css=””]Fees: $ 150 + tax \nPast Life Regression On-line Seminar[/vc_column_text][/vc_column][vc_column width=”1/3″ css=”.vc_custom_1585749079629{margin-bottom: 0px !important;padding-right: 10px !important;padding-left: 10px !important;}”][vc_btn title=”BUY TICKETS” style=”custom” custom_background=”#065f7a” custom_text=”#ffffff” shape=”square” size=”lg” align=”right” css=”.vc_custom_1741700916806{margin-bottom: 0px !important;}” link=”url:https%3A%2F%2Fdemo.agapecode.com%2Fcheckout%2F%3Fadd-to-cart%3D4303|title:Past%20Life%20Regression%20Therapy%20Online%20Seminar”][/vc_column][/vc_row][vc_row css=”.vc_custom_1741700629133{margin-top: 35px !important;margin-bottom: 20px !important;}”][vc_column][vc_column_text css=””]The DivineYu Academy teaches the Pythagorean method of conscious memory access\, which was developed in ancient Greece\, without any kind of hypnosis. Learn about the most recent scientific findings about near-death experiences\, past lives\, and the afterlife. Find out what the various scriptures describe about rebirth and reincarnation\, afterlife\, and past lives. Let go of your dread of dying to live peacefully and happily. Recognize your life’s purpose. \nRebirth is an affirmation that must be counted among the primordial affirmations of mankind. The concept of rebirth necessarily implies the continuity of personality. Here the human personality is regarded as continuous and accessible to memory\, so that\, when one is incarnated or born\, one is able\, potentially\, to remember that one has lived through previous existences\, and that these existences were one’s own\, ie\, they had the same ego form as the present life. As a rule\, reincarnation means rebirth in a human body. – Carl Jung (1875–1961)\, Swiss psychiatrist and psychotherapist \n\n\n\n\n\n\n\nPlease\, read the History of Rebirth to prepare for the class. \n\n\n\n\n\n\n\n\n\n\n\n\n\n\nFees= $150+tax. \n\n\n\n\n\n\n\n[/vc_column_text][/vc_column][/vc_row][vc_row css=”.vc_custom_1713720424109{margin-bottom: 30px !important;background-color: #eaf6f9 !important;}”][vc_column css=”.vc_custom_1713720308112{padding-top: 20px !important;padding-right: 5% !important;padding-bottom: 20px !important;padding-left: 5% !important;}”][academia_icon_box layout_style=”style5″ icon_type=”fontawesome” icon_fontawesome=”fas fa-globe” icon_color=”#8c1115″ link=”url:%20https%3A%2F%2Fus04web.zoom.us%2Fj%2F9074655172%3Fpwd%3DMbT2GhE8xIhDeaqfSPdoKObZNGZR10.1|title:How%20to%20join%20this%20event%20online”][vc_column_text]How to join this event online? \n\nOn this event page\, click on RSVP to reserve your place.\nMake sure that you are connected to the Internet and open a web browser.\nClick on: https://us04web.zoom.us/j/9074655172?pwd=MbT2GhE8xIhDeaqfSPdoKObZNGZR10.1\nClick on the Open Zoom Meetings button.\nWhen you log in please mute your speaker.\nYou are welcome to enable your camera.\nThere is a chat button for questions.\n\n[/vc_column_text][/vc_column][/vc_row]
URL:https://demo.agapecode.com/event/past-life-regression-seminar/
LOCATION:Online
CATEGORIES:Wellness
ATTACH;FMTTYPE=image/jpeg:https://demo.agapecode.com/wp-content/uploads/2019/02/past_life_regression_therapy_events.jpg
ORGANIZER;CN="DivineYu On-Line":MAILTO:info@divineyu.com
END:VEVENT
BEGIN:VEVENT
DTSTART;TZID=America/New_York:20251122T100000
DTEND;TZID=America/New_York:20251122T170000
DTSTAMP:20260420T011120
CREATED:20250717T190104Z
LAST-MODIFIED:20251030T150652Z
UID:26743-1763805600-1763830800@demo.agapecode.com
SUMMARY:Second Degree DivineYu Usui Reiki
DESCRIPTION:[vc_row css=”.vc_custom_1714145334271{margin-top: 0px !important;margin-bottom: 0px !important;background-color: #065f7a !important;}”][vc_column][vc_column_text css=”.vc_custom_1585748246249{padding-top: 15px !important;padding-right: 15px !important;padding-bottom: 15px !important;padding-left: 15px !important;}”] \nTICKETS\n[/vc_column_text][/vc_column][/vc_row][vc_row css=”.vc_custom_1714145345421{border-top-width: 2px !important;border-right-width: 2px !important;border-bottom-width: 2px !important;border-left-width: 2px !important;padding-top: 20px !important;padding-right: 10px !important;padding-bottom: 10px !important;padding-left: 10px !important;background-color: #fbfbfb !important;border-left-color: #065f7a !important;border-left-style: solid !important;border-right-color: #065f7a !important;border-right-style: solid !important;border-top-color: #065f7a !important;border-top-style: solid !important;border-bottom-color: #065f7a !important;border-bottom-style: solid !important;}”][vc_column width=”2/3″][vc_column_text]Fees: $ 200 + tax \nSecond Degree DivineYu Usui Reiki[/vc_column_text][/vc_column][vc_column width=”1/3″ css=”.vc_custom_1585749079629{margin-bottom: 0px !important;padding-right: 10px !important;padding-left: 10px !important;}”][vc_btn title=”BUY TICKETS” style=”custom” custom_background=”#065f7a” custom_text=”#ffffff” shape=”square” size=”lg” align=”right” css=”.vc_custom_1723382148387{margin-bottom: 0px !important;}” link=”url:https%3A%2F%2Fdemo.agapecode.com%2Fcheckout%2F%3Fadd-to-cart%3D4256|title:Second%20Degree%20On-line%20Reiki%20Seminar”][/vc_column][/vc_row][vc_row css=”.vc_custom_1738169350376{margin-top: 20px !important;margin-bottom: 20px !important;}”][vc_column][vc_column_text css=””]Manifest Your Dreams in Harmony! \nUpdate: The class will be given in person in Ville Saint Laurent and online. \nUpon completion\, you will receive a Second Degree Certificate in the DivineYu Usui system of Reiki from the DivineYu Academy. \nThe Second Degree Reiki class takes you much deeper into the system of Reiki. It gives you tools to begin your journey as a professional Reiki practitioner. The effectiveness of your treatment will increase by using methods which are passed down from a Reiki Master to a student. You will also learn how to perform distant treatments and develop your intuition. You will be taught to focus and direct energy for specific conditions and purposes. \n\nContent \n\nCKR – Symbol for increasing the capacity of Reiki energy channels\nSHK – Symbol for protection\, emotional releases and resolving patters of behaviour\nHSZSN – Symbol for bridging of time & space\, distance Reiki\nLaRei – Emergency symbol Methods for manifestation of goals\nPrana breathing for rejuvenation and anti-aging CKR breathing for self-confidence\nManifestation techniques\nApplications\n\nThis experience is incredibly transformational and therapeutic. You’ll learn about advanced methods for self-healing and balancing of body\, emotions and mind. You’ll practice by giving and receiving Reiki energy or self-therapy. You can start providing professional Reiki sessions after the Second Degree Reiki class or using it more effectively for yourself. It’s very energizing and rejuvenating. \nFees: $200 + tax. \nContact: info@divineyu.com to register.[/vc_column_text][/vc_column][/vc_row][vc_row css=”.vc_custom_1713720424109{margin-bottom: 30px !important;background-color: #eaf6f9 !important;}”][vc_column css=”.vc_custom_1713720308112{padding-top: 20px !important;padding-right: 5% !important;padding-bottom: 20px !important;padding-left: 5% !important;}”][academia_icon_box layout_style=”style5″ icon_type=”fontawesome” icon_fontawesome=”fas fa-globe” icon_color=”#8c1115″ link=”url:%20https%3A%2F%2Fus04web.zoom.us%2Fj%2F9074655172%3Fpwd%3DMbT2GhE8xIhDeaqfSPdoKObZNGZR10.1|title:How%20to%20join%20this%20event%20online”][vc_column_text]How to join this event online? \n\nOn this event page\, click on RSVP to reserve your place.\nMake sure that you are connected to the Internet and open a web browser.\nClick on: https://us04web.zoom.us/j/9074655172?pwd=MbT2GhE8xIhDeaqfSPdoKObZNGZR10.1\nClick on the Open Zoom Meetings button.\nWhen you log in please mute your speaker.\nYou are welcome to enable your camera.\nThere is a chat button for questions.\n\n[/vc_column_text][/vc_column][/vc_row]
URL:https://demo.agapecode.com/event/second-degree-divineyu-usui-reiki-22/
LOCATION:Online
CATEGORIES:Reiki
ATTACH;FMTTYPE=image/jpeg:https://demo.agapecode.com/wp-content/uploads/2019/02/second_degree_divineyu_usui_reiki_events.jpg
ORGANIZER;CN="DivineYu On-Line":MAILTO:info@divineyu.com
END:VEVENT
BEGIN:VEVENT
DTSTART;TZID=America/New_York:20251123T100000
DTEND;TZID=America/New_York:20251123T170000
DTSTAMP:20260420T011120
CREATED:20251001T190354Z
LAST-MODIFIED:20251002T164725Z
UID:26958-1763892000-1763917200@demo.agapecode.com
SUMMARY:Ancient Himalayan Master Practices
DESCRIPTION:[vc_row css=”.vc_custom_1718732102049{margin-top: 0px !important;margin-bottom: 0px !important;background-color: #184e66 !important;}”][vc_column][vc_column_text css=”.vc_custom_1585748246249{padding-top: 15px !important;padding-right: 15px !important;padding-bottom: 15px !important;padding-left: 15px !important;}”] \nTICKETS\n[/vc_column_text][/vc_column][/vc_row][vc_row css=”.vc_custom_1585749133108{border-top-width: 2px !important;border-right-width: 2px !important;border-bottom-width: 2px !important;border-left-width: 2px !important;padding-top: 20px !important;padding-right: 10px !important;padding-bottom: 10px !important;padding-left: 10px !important;background-color: #fbfbfb !important;border-left-color: #30a8cc !important;border-left-style: solid !important;border-right-color: #30a8cc !important;border-right-style: solid !important;border-top-color: #30a8cc !important;border-top-style: solid !important;border-bottom-color: #30a8cc !important;border-bottom-style: solid !important;}”][vc_column width=”2/3″][vc_column_text]Price: $ 250 + tax \nTickets for attending Event: Ancient Himalayan Master Practices[/vc_column_text][/vc_column][vc_column width=”1/3″ css=”.vc_custom_1585749079629{margin-bottom: 0px !important;padding-right: 10px !important;padding-left: 10px !important;}”][vc_btn title=”BUY TICKETS” style=”custom” custom_background=”#184e66″ custom_text=”#ffffff” shape=”square” size=”lg” align=”right” css=”.vc_custom_1718732576549{margin-bottom: 0px !important;}” link=”url:https%3A%2F%2Fdemo.agapecode.com%2Fcheckout%2F%3Fadd-to-cart%3D5036|title:Ancient%20Himalayan%20Master%20Practices”][/vc_column][/vc_row][vc_row css=”.vc_custom_1741638204253{margin-top: 30px !important;}”][vc_column][vc_column_text css=””]The class will be hosted in person and On-line. \nYou’ll: \n\nLearn how the ancient Himalayan Masters used energy as a therapy;\nExperience permanent astral transformation;\nGet activation of 4 new astral organs;\nLearn how to use dynamic energy;\nLearn how to transfer energy in person and remotely without symbols;\nStart activating telepathic abilities;\nUse the ancient Himalayan massage to transfer vibrations to the cells.\n\n[/vc_column_text][/vc_column][/vc_row][vc_row css=”.vc_custom_1551062562489{margin-top: 30px !important;}”][vc_column][vc_btn title=”Learn more about the Ancient Himalayan Master Energy Practices Seminar” style=”flat” shape=”square” color=”white” i_icon_fontawesome=”fas fa-graduation-cap” add_icon=”true” link=”url:https%3A%2F%2Fdemo.agapecode.com%2Fancient-himalayan-master-practices%2F|||”][/vc_column][/vc_row][vc_row css=”.vc_custom_1713720424109{margin-bottom: 30px !important;background-color: #eaf6f9 !important;}”][vc_column css=”.vc_custom_1713720308112{padding-top: 20px !important;padding-right: 5% !important;padding-bottom: 20px !important;padding-left: 5% !important;}”][academia_icon_box layout_style=”style5″ icon_type=”fontawesome” icon_fontawesome=”fas fa-globe” icon_color=”#8c1115″ link=”url:%20https%3A%2F%2Fus04web.zoom.us%2Fj%2F9074655172%3Fpwd%3DMbT2GhE8xIhDeaqfSPdoKObZNGZR10.1|title:How%20to%20join%20this%20event%20online”][vc_column_text]How to join this event online? \n\nOn this event page\, click on RSVP to reserve your place.\nMake sure that you are connected to the Internet and open a web browser.\nClick on: https://us04web.zoom.us/j/9074655172?pwd=MbT2GhE8xIhDeaqfSPdoKObZNGZR10.1\nClick on the Open Zoom Meetings button.\nWhen you log in please mute your speaker.\nYou are welcome to enable your camera.\nThere is a chat button for questions.\n\n[/vc_column_text][/vc_column][/vc_row]
URL:https://demo.agapecode.com/event/ancient-himalayan-master-practices-11/
LOCATION:Online
CATEGORIES:Ancient Wisdom
ATTACH;FMTTYPE=image/jpeg:https://demo.agapecode.com/wp-content/uploads/2019/03/ancient_himalayan_master_practices_event_1.jpg
ORGANIZER;CN="DivineYu On-Line":MAILTO:info@divineyu.com
END:VEVENT
END:VCALENDAR